Workbook

Sheet ELENCO ATLETI
B12: nome SQUADRA :
D14: COGNOME | E14: NOME | F14: LUOGO DI NASCITA | G14: DATA DI NASCITA | H14: CODICE FISCALE | I14: VIA E N° CIVICO | J14: CITTA' | K14: CAP | L14: MAIL | M14: PESO | N14: ALTEZZA (in cm)
B15: ESEMPIO | D15: ROSSI | E15: MARIO | F15: CAGLIARI | G15: 32874 | I15: VIALE COLOMBO 00 | J15: CAGLIARI | K15: 09100 | L15: rossimario@mail.it | M15: 80 | N15: 1.85
B16: 1 | C16: AT
B17: 2 | C17: AT
B18: 3 | C18: AT
B19: 4 | C19: AT
B20: 5 | C20: AT
B21: 6 | C21: AT
B22: 7 | C22: AT
B23: 8 | C23: AT
B24: 9 | C24: AT
B25: 10 | C25: AT
B26: 1 | C26: DIR | H26: =CF!AB14 -> #N/A
B27: 2 | C27: DIR | H27: =CF!AB15 -> #N/A
I30: DATA : ______________________ | L30: FIRMA : _______________________________________

Sheet COMUNE
A1: COMUNE | B1: CODICE | C1: PROVINCIA
A2: ABANO BAGNI | B2: A001 | C2: PD
A3: ABANO TERME | B3: A001 | C3: PD
A4: ABBADIA | B4: A002 | C4: CO
A5: ABBADIA | B5: A003 | C5: TO
A6: ABBADIA ALPINA | B6: A003 | C6: TO
A7: ABBADIA CERRETO | B7: A004 | C7: LO
A8: ABBADIA CERRETO | B8: A004 | C8: MI
A9: ABBADIA LARIANA | B9: A005 | C9: CO
A10: ABBADIA LARIANA | B10: A005 | C10: LC
A11: ABBADIA SAN SALVATORE | B11: A006 | C11: SI
A12: ABBADIA SOPRA ADDA | B12: A002 | C12: CO
... A13867: ZURI | B13867: M206 | C13867: CA

Sheet MESI
A1: MESE | B1: LETTERA
A2: 01 | B2: A
A3: 02 | B3: B
A4: 03 | B4: C
A5: 04 | B5: D
A6: 05 | B6: E
A7: 06 | B7: H
A8: 07 | B8: L
A9: 08 | B9: M
A10: 09 | B10: P
A11: 10 | B11: R
A12: 11 | B12: S
A13: 12 | B13: T

Sheet CONTROLLO
A1: CONVERSIONE CARATTERI DISPARI | D1: CONVERSIONE CARATTERI PARI | G1: CODICE DI CONTROLLO
A2: CARATTERE | B2: VALORE | D2: CARATTERE | E2: VALORE | G2: RESTO | H2: LETTERA
A3: ZERO | B3: 1 | D3: ZERO | E3: 0 | G3: ZERO | H3: A
A4: 1 | B4: 0 | D4: 1 | E4: 1 | G4: 1 | H4: B
A5: 2 | B5: 5 | D5: 2 | E5: 2 | G5: 2 | H5: C
A6: 3 | B6: 7 | D6: 3 | E6: 3 | G6: 3 | H6: D
A7: 4 | B7: 9 | D7: 4 | E7: 4 | G7: 4 | H7: E
A8: 5 | B8: 13 | D8: 5 | E8: 5 | G8: 5 | H8: F
A9: 6 | B9: 15 | D9: 6 | E9: 6 | G9: 6 | H9: G
A10: 7 | B10: 17 | D10: 7 | E10: 7 | G10: 7 | H10: H
A11: 8 | B11: 19 | D11: 8 | E11: 8 | G11: 8 | H11: I
A12: 9 | B12: 21 | D12: 9 | E12: 9 | G12: 9 | H12: J
A13: A | B13: 1 | D13: A | E13: 0 | G13: 10 | H13: K
A14: B | B14: 0 | D14: B | E14: 1 | G14: 11 | H14: L
... A28: P | B28: 3 | D28: P | E28: 15 | G28: 25 | H28: Z
A29: Q | B29: 6 | D29: Q | E29: 16
A30: R | B30: 8 | D30: R | E30: 17
A31: S | B31: 12 | D31: S | E31: 18
A32: T | B32: 14 | D32: T | E32: 19
A33: U | B33: 16 | D33: U | E33: 20
A34: V | B34: 10 | D34: V | E34: 21
A35: W | B35: 22 | D35: W | E35: 22
A36: X | B36: 25 | D36: X | E36: 23
A37: Y | B37: 24 | D37: Y | E37: 24
A38: Z | B38: 23 | D38: Z | E38: 25

Sheet CF
A1: ='ELENCO ATLETI'!D16 -> 0 | B1: ='ELENCO ATLETI'!E16 -> 0 | C1: ='ELENCO ATLETI'!F16 -> 0 | D1: ='ELENCO ATLETI'!G16 -> 0 | E1: M | F1: =SUBSTITUTE(SUBSTITUTE(SUBSTITUTE(SUBSTITUTE(SUBSTITUTE(SUBSTITUTE(UPPER(A1)," ",""),"U",""),"O",""),"I",""),"E",""),"A","") -> 0 | G1: =SUBSTITUTE(SUBSTITUTE(SUBSTITUTE(SUBSTITUTE(SUBSTITUTE(SUBSTITUTE(UPPER(A1)," ",""),"G",""),"F",""),"D",""),"C",""),"B","") -> 0 | H1: =SUBSTITUTE(SUBSTITUTE(SUBSTITUTE(SUBSTITUTE(SUBSTITUTE(SUBSTITUTE(UPPER(G1)," ",""),"M",""),"L",""),"K",""),"J",""),"H","") -> 0 | I1: =SUBSTITUTE(SUBSTITUTE(SUBSTITUTE(SUBSTITUTE(SUBSTITUTE(SUBSTITUTE(UPPER(H1)," ",""),"S",""),"R",""),"Q",""),"P",""),"N","") -> 0 | J1: =SUBSTITUTE(SUBSTITUTE(SUBSTITUTE(SUBSTITUTE(SUBSTITUTE(SUBSTITUTE(SUBSTITUTE(UPPER(I1)," ",""),"Z",""),"W",""),"X",""),"W",""),"V",""),"T","") -> 0 | K1: =IF(LEN(IF(LEN(F1)>=3,LEFT(F1,3),IF(LEN(F1)=2,F1 & LEFT(J1,1),F1 & LEFT(J1,2))))=2,IF(LEN(F1)>=3,LEFT(F1,3),IF(LEN(F1)=2,F1 & LEFT(J1,1),F1 & LEFT(J1,2))) & "X",IF(LEN(F1)>=3,LEFT(F1,3),IF(LEN(F1)=2,F1 & LEFT(J1,1),F1 & LEFT(J1,2)))) -> 00X | L1: =(VLOOKUP(LEFT(K1,1),[1]CONTROLLO!$A$3:$B$38,2,FALSE)) + (VLOOKUP(MID(K1,2,1),[1]CONTROLLO!$D$3:$E$38,2,FALSE)) + (VLOOKUP(RIGHT(K1,1),[1]CONTROLLO!$A$3:$B$38,2,FALSE)) -> #N/A | M1: =SUBSTITUTE(SUBSTITUTE(SUBSTITUTE(SUBSTITUTE(SUBSTITUTE(SUBSTITUTE(UPPER(B1)," ",""),"U",""),"O",""),"I",""),"E",""),"A","") -> 0 | N1: =SUBSTITUTE(SUBSTITUTE(SUBSTITUTE(SUBSTITUTE(SUBSTITUTE(SUBSTITUTE(UPPER(B1)," ",""),"G",""),"F",""),"D",""),"C",""),"B","") -> 0 | O1: =SUBSTITUTE(SUBSTITUTE(SUBSTITUTE(SUBSTITUTE(SUBSTITUTE(SUBSTITUTE(UPPER(N1)," ",""),"M",""),"L",""),"K",""),"J",""),"H","") -> 0 | P1: =SUBSTITUTE(SUBSTITUTE(SUBSTITUTE(SUBSTITUTE(SUBSTITUTE(SUBSTITUTE(UPPER(O1)," ",""),"S",""),"R",""),"Q",""),"P",""),"N","") -> 0 | Q1: =SUBSTITUTE(SUBSTITUTE(SUBSTITUTE(SUBSTITUTE(SUBSTITUTE(SUBSTITUTE(SUBSTITUTE(UPPER(P1)," ",""),"Z",""),"W",""),"X",""),"W",""),"V",""),"T","") -> 0 | R1: =IF(LEN(IF(LEN(M1)>3,MID(M1,1,1) & MID(M1,3,1) & MID(M1,4,1),IF(LEN(M1)=3,M1,IF(LEN(M1)=2,M1 & LEFT(Q1,1),M1 & LEFT(Q1,2)))))=2,IF(LEN(M1)>3,MID(M1,1,1) & MID(M1,3,1) & MID(M1,4,1),IF(LEN(M1)=3,M1,IF(LEN(M1)=2,M1 & LEFT(Q1,1),M1 & LEFT(Q1,2)))) & "X",IF(LEN(M1)>3,MID(M1,1,1) & MID(M1,3,1) & MID(M1,4,1),IF(LEN(M1)=3,M1,IF(LEN(M1)=2,M1 & LEFT(Q1,1),M1 & LEFT(Q1,2))))) -> 00X | S1: =(VLOOKUP(LEFT(R1,1),[1]CONTROLLO!$D$3:$E$38,2,FALSE)) + (VLOOKUP(MID(R1,2,1),[1]CONTROLLO!$A$3:$B$38,2,FALSE)) + (VLOOKUP(RIGHT(R1,1),[1]CONTROLLO!$D$3:$E$38,2,FALSE)) -> #N/A | T1: =IF(C1="","",VLOOKUP(C1,[1]COMUNI!$A$2:$C$13867,2,FALSE)) -> #N/A | U1: =(VLOOKUP(IF(LEFT(T1,1)="0","ZERO",LEFT(T1,1)),[1]CONTROLLO!$D$3:$E$38,2,FALSE)) + (VLOOKUP(IF(MID(T1,2,1)="0","ZERO",MID(T1,2,1)),[1]CONTROLLO!$A$3:$B$38,2,FALSE)) + (VLOOKUP(IF(MID(T1,3,1)="0","ZERO",MID(T1,3,1)),[1]CONTROLLO!$D$3:$E$38,2,FALSE)) + (VLOOKUP(IF(RIGHT(T1,1)="0","ZERO",RIGHT(T1,1)),[1]CONTROLLO!$A$3:$B$38,2,FALSE)) -> #N/A | V1: =RIGHT(TEXT(D1,"gg/mm/aaaa"),2) -> 00 | W1: =VLOOKUP(MID(TEXT(D1,"gg/mm/aaaa"),4,2),[1]MESI!$A$2:$B$13,2,FALSE) -> A | X1: =IF(E1="M",LEFT(TEXT(D1,"gg/mm/aaaa"),2),IF(E1="F",LEFT(TEXT(D1,"gg/mm/aaaa"),2)+40,"")) -> 00 | Y1: =IF(X1="","",V1&W1&X1) -> 00A00 | Z1: =(VLOOKUP(IF(LEFT(Y1,1)="0","ZERO",LEFT(Y1,1)),[1]CONTROLLO!$A$3:$B$38,2,FALSE)) + (VLOOKUP(IF(MID(Y1,2,1)="0","ZERO",MID(Y1,2,1)),[1]CONTROLLO!$D$3:$E$38,2,FALSE)) + (VLOOKUP(IF(MID(Y1,3,1)="0","ZERO",MID(Y1,3,1)),[1]CONTROLLO!$A$3:$B$38,2,FALSE)) + (VLOOKUP(IF(MID(Y1,4,1)="0","ZERO",MID(Y1,4,1)),[1]CONTROLLO!$D$3:$E$38,2,FALSE)) + (VLOOKUP(IF(RIGHT(Y1,1)="0","ZERO",RIGHT(Y1,1)),[1]CONTROLLO!$A$3:$B$38,2,FALSE)) -> 3 | AA1: =VLOOKUP(IF(TEXT(MOD(L1+S1+U1+Z1,26),"#")="0","ZERO",IF(TEXT(MOD(L1+S1+U1+Z1,26),"#")="","ZERO",TEXT(MOD(L1+S1+U1+Z1,26),"#"))),[1]CONTROLLO!$G$3:$H$28,2,FALSE) -> #N/A | AB1: =IF(K1<>"",IF(R1<>"",IF(T1<>"",IF(Y1<>"",IF(AA1<>"",K1&R1&Y1&T1&AA1,""),""),""),""),"") -> #N/A
A2: ='ELENCO ATLETI'!D17 -> 0 | B2: ='ELENCO ATLETI'!E17 -> 0 | C2: ='ELENCO ATLETI'!F17 -> 0 | D2: ='ELENCO ATLETI'!G17 -> 0 | E2: M | F2: =SUBSTITUTE(SUBSTITUTE(SUBSTITUTE(SUBSTITUTE(SUBSTITUTE(SUBSTITUTE(UPPER(A2)," ",""),"U",""),"O",""),"I",""),"E",""),"A","") -> 0 | G2: =SUBSTITUTE(SUBSTITUTE(SUBSTITUTE(SUBSTITUTE(SUBSTITUTE(SUBSTITUTE(UPPER(A2)," ",""),"G",""),"F",""),"D",""),"C",""),"B","") -> 0 | H2: =SUBSTITUTE(SUBSTITUTE(SUBSTITUTE(SUBSTITUTE(SUBSTITUTE(SUBSTITUTE(UPPER(G2)," ",""),"M",""),"L",""),"K",""),"J",""),"H","") -> 0 | I2: =SUBSTITUTE(SUBSTITUTE(SUBSTITUTE(SUBSTITUTE(SUBSTITUTE(SUBSTITUTE(UPPER(H2)," ",""),"S",""),"R",""),"Q",""),"P",""),"N","") -> 0 | J2: =SUBSTITUTE(SUBSTITUTE(SUBSTITUTE(SUBSTITUTE(SUBSTITUTE(SUBSTITUTE(SUBSTITUTE(UPPER(I2)," ",""),"Z",""),"W",""),"X",""),"W",""),"V",""),"T","") -> 0 | K2: =IF(LEN(IF(LEN(F2)>=3,LEFT(F2,3),IF(LEN(F2)=2,F2 & LEFT(J2,1),F2 & LEFT(J2,2))))=2,IF(LEN(F2)>=3,LEFT(F2,3),IF(LEN(F2)=2,F2 & LEFT(J2,1),F2 & LEFT(J2,2))) & "X",IF(LEN(F2)>=3,LEFT(F2,3),IF(LEN(F2)=2,F2 & LEFT(J2,1),F2 & LEFT(J2,2)))) -> 00X | L2: =(VLOOKUP(LEFT(K2,1),[1]CONTROLLO!$A$3:$B$38,2,FALSE)) + (VLOOKUP(MID(K2,2,1),[1]CONTROLLO!$D$3:$E$38,2,FALSE)) + (VLOOKUP(RIGHT(K2,1),[1]CONTROLLO!$A$3:$B$38,2,FALSE)) -> #N/A | M2: =SUBSTITUTE(SUBSTITUTE(SUBSTITUTE(SUBSTITUTE(SUBSTITUTE(SUBSTITUTE(UPPER(B2)," ",""),"U",""),"O",""),"I",""),"E",""),"A","") -> 0 | N2: =SUBSTITUTE(SUBSTITUTE(SUBSTITUTE(SUBSTITUTE(SUBSTITUTE(SUBSTITUTE(UPPER(B2)," ",""),"G",""),"F",""),"D",""),"C",""),"B","") -> 0 | O2: =SUBSTITUTE(SUBSTITUTE(SUBSTITUTE(SUBSTITUTE(SUBSTITUTE(SUBSTITUTE(UPPER(N2)," ",""),"M",""),"L",""),"K",""),"J",""),"H","") -> 0 | P2: =SUBSTITUTE(SUBSTITUTE(SUBSTITUTE(SUBSTITUTE(SUBSTITUTE(SUBSTITUTE(UPPER(O2)," ",""),"S",""),"R",""),"Q",""),"P",""),"N","") -> 0 | Q2: =SUBSTITUTE(SUBSTITUTE(SUBSTITUTE(SUBSTITUTE(SUBSTITUTE(SUBSTITUTE(SUBSTITUTE(UPPER(P2)," ",""),"Z",""),"W",""),"X",""),"W",""),"V",""),"T","") -> 0 | R2: =IF(LEN(IF(LEN(M2)>3,MID(M2,1,1) & MID(M2,3,1) & MID(M2,4,1),IF(LEN(M2)=3,M2,IF(LEN(M2)=2,M2 & LEFT(Q2,1),M2 & LEFT(Q2,2)))))=2,IF(LEN(M2)>3,MID(M2,1,1) & MID(M2,3,1) & MID(M2,4,1),IF(LEN(M2)=3,M2,IF(LEN(M2)=2,M2 & LEFT(Q2,1),M2 & LEFT(Q2,2)))) & "X",IF(LEN(M2)>3,MID(M2,1,1) & MID(M2,3,1) & MID(M2,4,1),IF(LEN(M2)=3,M2,IF(LEN(M2)=2,M2 & LEFT(Q2,1),M2 & LEFT(Q2,2))))) -> 00X | S2: =(VLOOKUP(LEFT(R2,1),[1]CONTROLLO!$D$3:$E$38,2,FALSE)) + (VLOOKUP(MID(R2,2,1),[1]CONTROLLO!$A$3:$B$38,2,FALSE)) + (VLOOKUP(RIGHT(R2,1),[1]CONTROLLO!$D$3:$E$38,2,FALSE)) -> #N/A | T2: =IF(C2="","",VLOOKUP(C2,[1]COMUNI!$A$2:$C$13867,2,FALSE)) -> #N/A | U2: =(VLOOKUP(IF(LEFT(T2,1)="0","ZERO",LEFT(T2,1)),[1]CONTROLLO!$D$3:$E$38,2,FALSE)) + (VLOOKUP(IF(MID(T2,2,1)="0","ZERO",MID(T2,2,1)),[1]CONTROLLO!$A$3:$B$38,2,FALSE)) + (VLOOKUP(IF(MID(T2,3,1)="0","ZERO",MID(T2,3,1)),[1]CONTROLLO!$D$3:$E$38,2,FALSE)) + (VLOOKUP(IF(RIGHT(T2,1)="0","ZERO",RIGHT(T2,1)),[1]CONTROLLO!$A$3:$B$38,2,FALSE)) -> #N/A | V2: =RIGHT(TEXT(D2,"gg/mm/aaaa"),2) -> 00 | W2: =VLOOKUP(MID(TEXT(D2,"gg/mm/aaaa"),4,2),[1]MESI!$A$2:$B$13,2,FALSE) -> A | X2: =IF(E2="M",LEFT(TEXT(D2,"gg/mm/aaaa"),2),IF(E2="F",LEFT(TEXT(D2,"gg/mm/aaaa"),2)+40,"")) -> 00 | Y2: =IF(X2="","",V2&W2&X2) -> 00A00 | Z2: =(VLOOKUP(IF(LEFT(Y2,1)="0","ZERO",LEFT(Y2,1)),[1]CONTROLLO!$A$3:$B$38,2,FALSE)) + (VLOOKUP(IF(MID(Y2,2,1)="0","ZERO",MID(Y2,2,1)),[1]CONTROLLO!$D$3:$E$38,2,FALSE)) + (VLOOKUP(IF(MID(Y2,3,1)="0","ZERO",MID(Y2,3,1)),[1]CONTROLLO!$A$3:$B$38,2,FALSE)) + (VLOOKUP(IF(MID(Y2,4,1)="0","ZERO",MID(Y2,4,1)),[1]CONTROLLO!$D$3:$E$38,2,FALSE)) + (VLOOKUP(IF(RIGHT(Y2,1)="0","ZERO",RIGHT(Y2,1)),[1]CONTROLLO!$A$3:$B$38,2,FALSE)) -> 3 | AA2: =VLOOKUP(IF(TEXT(MOD(L2+S2+U2+Z2,26),"#")="0","ZERO",IF(TEXT(MOD(L2+S2+U2+Z2,26),"#")="","ZERO",TEXT(MOD(L2+S2+U2+Z2,26),"#"))),[1]CONTROLLO!$G$3:$H$28,2,FALSE) -> #N/A | AB2: =IF(K2<>"",IF(R2<>"",IF(T2<>"",IF(Y2<>"",IF(AA2<>"",K2&R2&Y2&T2&AA2,""),""),""),""),"") -> #N/A
A3: ='ELENCO ATLETI'!D18 -> 0 | B3: ='ELENCO ATLETI'!E18 -> 0 | C3: ='ELENCO ATLETI'!F18 -> 0 | D3: ='ELENCO ATLETI'!G18 -> 0 | E3: M | F3: =SUBSTITUTE(SUBSTITUTE(SUBSTITUTE(SUBSTITUTE(SUBSTITUTE(SUBSTITUTE(UPPER(A3)," ",""),"U",""),"O",""),"I",""),"E",""),"A","") -> 0 | G3: =SUBSTITUTE(SUBSTITUTE(SUBSTITUTE(SUBSTITUTE(SUBSTITUTE(SUBSTITUTE(UPPER(A3)," ",""),"G",""),"F",""),"D",""),"C",""),"B","") -> 0 | H3: =SUBSTITUTE(SUBSTITUTE(SUBSTITUTE(SUBSTITUTE(SUBSTITUTE(SUBSTITUTE(UPPER(G3)," ",""),"M",""),"L",""),"K",""),"J",""),"H","") -> 0 | I3: =SUBSTITUTE(SUBSTITUTE(SUBSTITUTE(SUBSTITUTE(SUBSTITUTE(SUBSTITUTE(UPPER(H3)," ",""),"S",""),"R",""),"Q",""),"P",""),"N","") -> 0 | J3: =SUBSTITUTE(SUBSTITUTE(SUBSTITUTE(SUBSTITUTE(SUBSTITUTE(SUBSTITUTE(SUBSTITUTE(UPPER(I3)," ",""),"Z",""),"W",""),"X",""),"W",""),"V",""),"T","") -> 0 | K3: =IF(LEN(IF(LEN(F3)>=3,LEFT(F3,3),IF(LEN(F3)=2,F3 & LEFT(J3,1),F3 & LEFT(J3,2))))=2,IF(LEN(F3)>=3,LEFT(F3,3),IF(LEN(F3)=2,F3 & LEFT(J3,1),F3 & LEFT(J3,2))) & "X",IF(LEN(F3)>=3,LEFT(F3,3),IF(LEN(F3)=2,F3 & LEFT(J3,1),F3 & LEFT(J3,2)))) -> 00X | L3: =(VLOOKUP(LEFT(K3,1),[1]CONTROLLO!$A$3:$B$38,2,FALSE)) + (VLOOKUP(MID(K3,2,1),[1]CONTROLLO!$D$3:$E$38,2,FALSE)) + (VLOOKUP(RIGHT(K3,1),[1]CONTROLLO!$A$3:$B$38,2,FALSE)) -> #N/A | M3: =SUBSTITUTE(SUBSTITUTE(SUBSTITUTE(SUBSTITUTE(SUBSTITUTE(SUBSTITUTE(UPPER(B3)," ",""),"U",""),"O",""),"I",""),"E",""),"A","") -> 0 | N3: =SUBSTITUTE(SUBSTITUTE(SUBSTITUTE(SUBSTITUTE(SUBSTITUTE(SUBSTITUTE(UPPER(B3)," ",""),"G",""),"F",""),"D",""),"C",""),"B","") -> 0 | O3: =SUBSTITUTE(SUBSTITUTE(SUBSTITUTE(SUBSTITUTE(SUBSTITUTE(SUBSTITUTE(UPPER(N3)," ",""),"M",""),"L",""),"K",""),"J",""),"H","") -> 0 | P3: =SUBSTITUTE(SUBSTITUTE(SUBSTITUTE(SUBSTITUTE(SUBSTITUTE(SUBSTITUTE(UPPER(O3)," ",""),"S",""),"R",""),"Q",""),"P",""),"N","") -> 0 | Q3: =SUBSTITUTE(SUBSTITUTE(SUBSTITUTE(SUBSTITUTE(SUBSTITUTE(SUBSTITUTE(SUBSTITUTE(UPPER(P3)," ",""),"Z",""),"W",""),"X",""),"W",""),"V",""),"T","") -> 0 | R3: =IF(LEN(IF(LEN(M3)>3,MID(M3,1,1) & MID(M3,3,1) & MID(M3,4,1),IF(LEN(M3)=3,M3,IF(LEN(M3)=2,M3 & LEFT(Q3,1),M3 & LEFT(Q3,2)))))=2,IF(LEN(M3)>3,MID(M3,1,1) & MID(M3,3,1) & MID(M3,4,1),IF(LEN(M3)=3,M3,IF(LEN(M3)=2,M3 & LEFT(Q3,1),M3 & LEFT(Q3,2)))) & "X",IF(LEN(M3)>3,MID(M3,1,1) & MID(M3,3,1) & MID(M3,4,1),IF(LEN(M3)=3,M3,IF(LEN(M3)=2,M3 & LEFT(Q3,1),M3 & LEFT(Q3,2))))) -> 00X | S3: =(VLOOKUP(LEFT(R3,1),[1]CONTROLLO!$D$3:$E$38,2,FALSE)) + (VLOOKUP(MID(R3,2,1),[1]CONTROLLO!$A$3:$B$38,2,FALSE)) + (VLOOKUP(RIGHT(R3,1),[1]CONTROLLO!$D$3:$E$38,2,FALSE)) -> #N/A | T3: =IF(C3="","",VLOOKUP(C3,[1]COMUNI!$A$2:$C$13867,2,FALSE)) -> #N/A | U3: =(VLOOKUP(IF(LEFT(T3,1)="0","ZERO",LEFT(T3,1)),[1]CONTROLLO!$D$3:$E$38,2,FALSE)) + (VLOOKUP(IF(MID(T3,2,1)="0","ZERO",MID(T3,2,1)),[1]CONTROLLO!$A$3:$B$38,2,FALSE)) + (VLOOKUP(IF(MID(T3,3,1)="0","ZERO",MID(T3,3,1)),[1]CONTROLLO!$D$3:$E$38,2,FALSE)) + (VLOOKUP(IF(RIGHT(T3,1)="0","ZERO",RIGHT(T3,1)),[1]CONTROLLO!$A$3:$B$38,2,FALSE)) -> #N/A | V3: =RIGHT(TEXT(D3,"gg/mm/aaaa"),2) -> 00 | W3: =VLOOKUP(MID(TEXT(D3,"gg/mm/aaaa"),4,2),[1]MESI!$A$2:$B$13,2,FALSE) -> A | X3: =IF(E3="M",LEFT(TEXT(D3,"gg/mm/aaaa"),2),IF(E3="F",LEFT(TEXT(D3,"gg/mm/aaaa"),2)+40,"")) -> 00 | Y3: =IF(X3="","",V3&W3&X3) -> 00A00 | Z3: =(VLOOKUP(IF(LEFT(Y3,1)="0","ZERO",LEFT(Y3,1)),[1]CONTROLLO!$A$3:$B$38,2,FALSE)) + (VLOOKUP(IF(MID(Y3,2,1)="0","ZERO",MID(Y3,2,1)),[1]CONTROLLO!$D$3:$E$38,2,FALSE)) + (VLOOKUP(IF(MID(Y3,3,1)="0","ZERO",MID(Y3,3,1)),[1]CONTROLLO!$A$3:$B$38,2,FALSE)) + (VLOOKUP(IF(MID(Y3,4,1)="0","ZERO",MID(Y3,4,1)),[1]CONTROLLO!$D$3:$E$38,2,FALSE)) + (VLOOKUP(IF(RIGHT(Y3,1)="0","ZERO",RIGHT(Y3,1)),[1]CONTROLLO!$A$3:$B$38,2,FALSE)) -> 3 | AA3: =VLOOKUP(IF(TEXT(MOD(L3+S3+U3+Z3,26),"#")="0","ZERO",IF(TEXT(MOD(L3+S3+U3+Z3,26),"#")="","ZERO",TEXT(MOD(L3+S3+U3+Z3,26),"#"))),[1]CONTROLLO!$G$3:$H$28,2,FALSE) -> #N/A | AB3: =IF(K3<>"",IF(R3<>"",IF(T3<>"",IF(Y3<>"",IF(AA3<>"",K3&R3&Y3&T3&AA3,""),""),""),""),"") -> #N/A
A4: ='ELENCO ATLETI'!D19 -> 0 | B4: ='ELENCO ATLETI'!E19 -> 0 | C4: ='ELENCO ATLETI'!F19 -> 0 | D4: ='ELENCO ATLETI'!G19 -> 0 | E4: M | F4: =SUBSTITUTE(SUBSTITUTE(SUBSTITUTE(SUBSTITUTE(SUBSTITUTE(SUBSTITUTE(UPPER(A4)," ",""),"U",""),"O",""),"I",""),"E",""),"A","") -> 0 | G4: =SUBSTITUTE(SUBSTITUTE(SUBSTITUTE(SUBSTITUTE(SUBSTITUTE(SUBSTITUTE(UPPER(A4)," ",""),"G",""),"F",""),"D",""),"C",""),"B","") -> 0 | H4: =SUBSTITUTE(SUBSTITUTE(SUBSTITUTE(SUBSTITUTE(SUBSTITUTE(SUBSTITUTE(UPPER(G4)," ",""),"M",""),"L",""),"K",""),"J",""),"H","") -> 0 | I4: =SUBSTITUTE(SUBSTITUTE(SUBSTITUTE(SUBSTITUTE(SUBSTITUTE(SUBSTITUTE(UPPER(H4)," ",""),"S",""),"R",""),"Q",""),"P",""),"N","") -> 0 | J4: =SUBSTITUTE(SUBSTITUTE(SUBSTITUTE(SUBSTITUTE(SUBSTITUTE(SUBSTITUTE(SUBSTITUTE(UPPER(I4)," ",""),"Z",""),"W",""),"X",""),"W",""),"V",""),"T","") -> 0 | K4: =IF(LEN(IF(LEN(F4)>=3,LEFT(F4,3),IF(LEN(F4)=2,F4 & LEFT(J4,1),F4 & LEFT(J4,2))))=2,IF(LEN(F4)>=3,LEFT(F4,3),IF(LEN(F4)=2,F4 & LEFT(J4,1),F4 & LEFT(J4,2))) & "X",IF(LEN(F4)>=3,LEFT(F4,3),IF(LEN(F4)=2,F4 & LEFT(J4,1),F4 & LEFT(J4,2)))) -> 00X | L4: =(VLOOKUP(LEFT(K4,1),[1]CONTROLLO!$A$3:$B$38,2,FALSE)) + (VLOOKUP(MID(K4,2,1),[1]CONTROLLO!$D$3:$E$38,2,FALSE)) + (VLOOKUP(RIGHT(K4,1),[1]CONTROLLO!$A$3:$B$38,2,FALSE)) -> #N/A | M4: =SUBSTITUTE(SUBSTITUTE(SUBSTITUTE(SUBSTITUTE(SUBSTITUTE(SUBSTITUTE(UPPER(B4)," ",""),"U",""),"O",""),"I",""),"E",""),"A","") -> 0 | N4: =SUBSTITUTE(SUBSTITUTE(SUBSTITUTE(SUBSTITUTE(SUBSTITUTE(SUBSTITUTE(UPPER(B4)," ",""),"G",""),"F",""),"D",""),"C",""),"B","") -> 0 | O4: =SUBSTITUTE(SUBSTITUTE(SUBSTITUTE(SUBSTITUTE(SUBSTITUTE(SUBSTITUTE(UPPER(N4)," ",""),"M",""),"L",""),"K",""),"J",""),"H","") -> 0 | P4: =SUBSTITUTE(SUBSTITUTE(SUBSTITUTE(SUBSTITUTE(SUBSTITUTE(SUBSTITUTE(UPPER(O4)," ",""),"S",""),"R",""),"Q",""),"P",""),"N","") -> 0 | Q4: =SUBSTITUTE(SUBSTITUTE(SUBSTITUTE(SUBSTITUTE(SUBSTITUTE(SUBSTITUTE(SUBSTITUTE(UPPER(P4)," ",""),"Z",""),"W",""),"X",""),"W",""),"V",""),"T","") -> 0 | R4: =IF(LEN(IF(LEN(M4)>3,MID(M4,1,1) & MID(M4,3,1) & MID(M4,4,1),IF(LEN(M4)=3,M4,IF(LEN(M4)=2,M4 & LEFT(Q4,1),M4 & LEFT(Q4,2)))))=2,IF(LEN(M4)>3,MID(M4,1,1) & MID(M4,3,1) & MID(M4,4,1),IF(LEN(M4)=3,M4,IF(LEN(M4)=2,M4 & LEFT(Q4,1),M4 & LEFT(Q4,2)))) & "X",IF(LEN(M4)>3,MID(M4,1,1) & MID(M4,3,1) & MID(M4,4,1),IF(LEN(M4)=3,M4,IF(LEN(M4)=2,M4 & LEFT(Q4,1),M4 & LEFT(Q4,2))))) -> 00X | S4: =(VLOOKUP(LEFT(R4,1),[1]CONTROLLO!$D$3:$E$38,2,FALSE)) + (VLOOKUP(MID(R4,2,1),[1]CONTROLLO!$A$3:$B$38,2,FALSE)) + (VLOOKUP(RIGHT(R4,1),[1]CONTROLLO!$D$3:$E$38,2,FALSE)) -> #N/A | T4: =IF(C4="","",VLOOKUP(C4,[1]COMUNI!$A$2:$C$13867,2,FALSE)) -> #N/A | U4: =(VLOOKUP(IF(LEFT(T4,1)="0","ZERO",LEFT(T4,1)),[1]CONTROLLO!$D$3:$E$38,2,FALSE)) + (VLOOKUP(IF(MID(T4,2,1)="0","ZERO",MID(T4,2,1)),[1]CONTROLLO!$A$3:$B$38,2,FALSE)) + (VLOOKUP(IF(MID(T4,3,1)="0","ZERO",MID(T4,3,1)),[1]CONTROLLO!$D$3:$E$38,2,FALSE)) + (VLOOKUP(IF(RIGHT(T4,1)="0","ZERO",RIGHT(T4,1)),[1]CONTROLLO!$A$3:$B$38,2,FALSE)) -> #N/A | V4: =RIGHT(TEXT(D4,"gg/mm/aaaa"),2) -> 00 | W4: =VLOOKUP(MID(TEXT(D4,"gg/mm/aaaa"),4,2),[1]MESI!$A$2:$B$13,2,FALSE) -> A | X4: =IF(E4="M",LEFT(TEXT(D4,"gg/mm/aaaa"),2),IF(E4="F",LEFT(TEXT(D4,"gg/mm/aaaa"),2)+40,"")) -> 00 | Y4: =IF(X4="","",V4&W4&X4) -> 00A00 | Z4: =(VLOOKUP(IF(LEFT(Y4,1)="0","ZERO",LEFT(Y4,1)),[1]CONTROLLO!$A$3:$B$38,2,FALSE)) + (VLOOKUP(IF(MID(Y4,2,1)="0","ZERO",MID(Y4,2,1)),[1]CONTROLLO!$D$3:$E$38,2,FALSE)) + (VLOOKUP(IF(MID(Y4,3,1)="0","ZERO",MID(Y4,3,1)),[1]CONTROLLO!$A$3:$B$38,2,FALSE)) + (VLOOKUP(IF(MID(Y4,4,1)="0","ZERO",MID(Y4,4,1)),[1]CONTROLLO!$D$3:$E$38,2,FALSE)) + (VLOOKUP(IF(RIGHT(Y4,1)="0","ZERO",RIGHT(Y4,1)),[1]CONTROLLO!$A$3:$B$38,2,FALSE)) -> 3 | AA4: =VLOOKUP(IF(TEXT(MOD(L4+S4+U4+Z4,26),"#")="0","ZERO",IF(TEXT(MOD(L4+S4+U4+Z4,26),"#")="","ZERO",TEXT(MOD(L4+S4+U4+Z4,26),"#"))),[1]CONTROLLO!$G$3:$H$28,2,FALSE) -> #N/A | AB4: =IF(K4<>"",IF(R4<>"",IF(T4<>"",IF(Y4<>"",IF(AA4<>"",K4&R4&Y4&T4&AA4,""),""),""),""),"") -> #N/A
A5: ='ELENCO ATLETI'!D20 -> 0 | B5: ='ELENCO ATLETI'!E20 -> 0 | C5: ='ELENCO ATLETI'!F20 -> 0 | D5: ='ELENCO ATLETI'!G20 -> 0 | E5: M | F5: =SUBSTITUTE(SUBSTITUTE(SUBSTITUTE(SUBSTITUTE(SUBSTITUTE(SUBSTITUTE(UPPER(A5)," ",""),"U",""),"O",""),"I",""),"E",""),"A","") -> 0 | G5: =SUBSTITUTE(SUBSTITUTE(SUBSTITUTE(SUBSTITUTE(SUBSTITUTE(SUBSTITUTE(UPPER(A5)," ",""),"G",""),"F",""),"D",""),"C",""),"B","") -> 0 | H5: =SUBSTITUTE(SUBSTITUTE(SUBSTITUTE(SUBSTITUTE(SUBSTITUTE(SUBSTITUTE(UPPER(G5)," ",""),"M",""),"L",""),"K",""),"J",""),"H","") -> 0 | I5: =SUBSTITUTE(SUBSTITUTE(SUBSTITUTE(SUBSTITUTE(SUBSTITUTE(SUBSTITUTE(UPPER(H5)," ",""),"S",""),"R",""),"Q",""),"P",""),"N","") -> 0 | J5: =SUBSTITUTE(SUBSTITUTE(SUBSTITUTE(SUBSTITUTE(SUBSTITUTE(SUBSTITUTE(SUBSTITUTE(UPPER(I5)," ",""),"Z",""),"W",""),"X",""),"W",""),"V",""),"T","") -> 0 | K5: =IF(LEN(IF(LEN(F5)>=3,LEFT(F5,3),IF(LEN(F5)=2,F5 & LEFT(J5,1),F5 & LEFT(J5,2))))=2,IF(LEN(F5)>=3,LEFT(F5,3),IF(LEN(F5)=2,F5 & LEFT(J5,1),F5 & LEFT(J5,2))) & "X",IF(LEN(F5)>=3,LEFT(F5,3),IF(LEN(F5)=2,F5 & LEFT(J5,1),F5 & LEFT(J5,2)))) -> 00X | L5: =(VLOOKUP(LEFT(K5,1),[1]CONTROLLO!$A$3:$B$38,2,FALSE)) + (VLOOKUP(MID(K5,2,1),[1]CONTROLLO!$D$3:$E$38,2,FALSE)) + (VLOOKUP(RIGHT(K5,1),[1]CONTROLLO!$A$3:$B$38,2,FALSE)) -> #N/A | M5: =SUBSTITUTE(SUBSTITUTE(SUBSTITUTE(SUBSTITUTE(SUBSTITUTE(SUBSTITUTE(UPPER(B5)," ",""),"U",""),"O",""),"I",""),"E",""),"A","") -> 0 | N5: =SUBSTITUTE(SUBSTITUTE(SUBSTITUTE(SUBSTITUTE(SUBSTITUTE(SUBSTITUTE(UPPER(B5)," ",""),"G",""),"F",""),"D",""),"C",""),"B","") -> 0 | O5: =SUBSTITUTE(SUBSTITUTE(SUBSTITUTE(SUBSTITUTE(SUBSTITUTE(SUBSTITUTE(UPPER(N5)," ",""),"M",""),"L",""),"K",""),"J",""),"H","") -> 0 | P5: =SUBSTITUTE(SUBSTITUTE(SUBSTITUTE(SUBSTITUTE(SUBSTITUTE(SUBSTITUTE(UPPER(O5)," ",""),"S",""),"R",""),"Q",""),"P",""),"N","") -> 0 | Q5: =SUBSTITUTE(SUBSTITUTE(SUBSTITUTE(SUBSTITUTE(SUBSTITUTE(SUBSTITUTE(SUBSTITUTE(UPPER(P5)," ",""),"Z",""),"W",""),"X",""),"W",""),"V",""),"T","") -> 0 | R5: =IF(LEN(IF(LEN(M5)>3,MID(M5,1,1) & MID(M5,3,1) & MID(M5,4,1),IF(LEN(M5)=3,M5,IF(LEN(M5)=2,M5 & LEFT(Q5,1),M5 & LEFT(Q5,2)))))=2,IF(LEN(M5)>3,MID(M5,1,1) & MID(M5,3,1) & MID(M5,4,1),IF(LEN(M5)=3,M5,IF(LEN(M5)=2,M5 & LEFT(Q5,1),M5 & LEFT(Q5,2)))) & "X",IF(LEN(M5)>3,MID(M5,1,1) & MID(M5,3,1) & MID(M5,4,1),IF(LEN(M5)=3,M5,IF(LEN(M5)=2,M5 & LEFT(Q5,1),M5 & LEFT(Q5,2))))) -> 00X | S5: =(VLOOKUP(LEFT(R5,1),[1]CONTROLLO!$D$3:$E$38,2,FALSE)) + (VLOOKUP(MID(R5,2,1),[1]CONTROLLO!$A$3:$B$38,2,FALSE)) + (VLOOKUP(RIGHT(R5,1),[1]CONTROLLO!$D$3:$E$38,2,FALSE)) -> #N/A | T5: =IF(C5="","",VLOOKUP(C5,[1]COMUNI!$A$2:$C$13867,2,FALSE)) -> #N/A | U5: =(VLOOKUP(IF(LEFT(T5,1)="0","ZERO",LEFT(T5,1)),[1]CONTROLLO!$D$3:$E$38,2,FALSE)) + (VLOOKUP(IF(MID(T5,2,1)="0","ZERO",MID(T5,2,1)),[1]CONTROLLO!$A$3:$B$38,2,FALSE)) + (VLOOKUP(IF(MID(T5,3,1)="0","ZERO",MID(T5,3,1)),[1]CONTROLLO!$D$3:$E$38,2,FALSE)) + (VLOOKUP(IF(RIGHT(T5,1)="0","ZERO",RIGHT(T5,1)),[1]CONTROLLO!$A$3:$B$38,2,FALSE)) -> #N/A | V5: =RIGHT(TEXT(D5,"gg/mm/aaaa"),2) -> 00 | W5: =VLOOKUP(MID(TEXT(D5,"gg/mm/aaaa"),4,2),[1]MESI!$A$2:$B$13,2,FALSE) -> A | X5: =IF(E5="M",LEFT(TEXT(D5,"gg/mm/aaaa"),2),IF(E5="F",LEFT(TEXT(D5,"gg/mm/aaaa"),2)+40,"")) -> 00 | Y5: =IF(X5="","",V5&W5&X5) -> 00A00 | Z5: =(VLOOKUP(IF(LEFT(Y5,1)="0","ZERO",LEFT(Y5,1)),[1]CONTROLLO!$A$3:$B$38,2,FALSE)) + (VLOOKUP(IF(MID(Y5,2,1)="0","ZERO",MID(Y5,2,1)),[1]CONTROLLO!$D$3:$E$38,2,FALSE)) + (VLOOKUP(IF(MID(Y5,3,1)="0","ZERO",MID(Y5,3,1)),[1]CONTROLLO!$A$3:$B$38,2,FALSE)) + (VLOOKUP(IF(MID(Y5,4,1)="0","ZERO",MID(Y5,4,1)),[1]CONTROLLO!$D$3:$E$38,2,FALSE)) + (VLOOKUP(IF(RIGHT(Y5,1)="0","ZERO",RIGHT(Y5,1)),[1]CONTROLLO!$A$3:$B$38,2,FALSE)) -> 3 | AA5: =VLOOKUP(IF(TEXT(MOD(L5+S5+U5+Z5,26),"#")="0","ZERO",IF(TEXT(MOD(L5+S5+U5+Z5,26),"#")="","ZERO",TEXT(MOD(L5+S5+U5+Z5,26),"#"))),[1]CONTROLLO!$G$3:$H$28,2,FALSE) -> #N/A | AB5: =IF(K5<>"",IF(R5<>"",IF(T5<>"",IF(Y5<>"",IF(AA5<>"",K5&R5&Y5&T5&AA5,""),""),""),""),"") -> #N/A
A6: ='ELENCO ATLETI'!D21 -> 0 | B6: ='ELENCO ATLETI'!E21 -> 0 | C6: ='ELENCO ATLETI'!F21 -> 0 | D6: ='ELENCO ATLETI'!G21 -> 0 | E6: M | F6: =SUBSTITUTE(SUBSTITUTE(SUBSTITUTE(SUBSTITUTE(SUBSTITUTE(SUBSTITUTE(UPPER(A6)," ",""),"U",""),"O",""),"I",""),"E",""),"A","") -> 0 | G6: =SUBSTITUTE(SUBSTITUTE(SUBSTITUTE(SUBSTITUTE(SUBSTITUTE(SUBSTITUTE(UPPER(A6)," ",""),"G",""),"F",""),"D",""),"C",""),"B","") -> 0 | H6: =SUBSTITUTE(SUBSTITUTE(SUBSTITUTE(SUBSTITUTE(SUBSTITUTE(SUBSTITUTE(UPPER(G6)," ",""),"M",""),"L",""),"K",""),"J",""),"H","") -> 0 | I6: =SUBSTITUTE(SUBSTITUTE(SUBSTITUTE(SUBSTITUTE(SUBSTITUTE(SUBSTITUTE(UPPER(H6)," ",""),"S",""),"R",""),"Q",""),"P",""),"N","") -> 0 | J6: =SUBSTITUTE(SUBSTITUTE(SUBSTITUTE(SUBSTITUTE(SUBSTITUTE(SUBSTITUTE(SUBSTITUTE(UPPER(I6)," ",""),"Z",""),"W",""),"X",""),"W",""),"V",""),"T","") -> 0 | K6: =IF(LEN(IF(LEN(F6)>=3,LEFT(F6,3),IF(LEN(F6)=2,F6 & LEFT(J6,1),F6 & LEFT(J6,2))))=2,IF(LEN(F6)>=3,LEFT(F6,3),IF(LEN(F6)=2,F6 & LEFT(J6,1),F6 & LEFT(J6,2))) & "X",IF(LEN(F6)>=3,LEFT(F6,3),IF(LEN(F6)=2,F6 & LEFT(J6,1),F6 & LEFT(J6,2)))) -> 00X | L6: =(VLOOKUP(LEFT(K6,1),[1]CONTROLLO!$A$3:$B$38,2,FALSE)) + (VLOOKUP(MID(K6,2,1),[1]CONTROLLO!$D$3:$E$38,2,FALSE)) + (VLOOKUP(RIGHT(K6,1),[1]CONTROLLO!$A$3:$B$38,2,FALSE)) -> #N/A | M6: =SUBSTITUTE(SUBSTITUTE(SUBSTITUTE(SUBSTITUTE(SUBSTITUTE(SUBSTITUTE(UPPER(B6)," ",""),"U",""),"O",""),"I",""),"E",""),"A","") -> 0 | N6: =SUBSTITUTE(SUBSTITUTE(SUBSTITUTE(SUBSTITUTE(SUBSTITUTE(SUBSTITUTE(UPPER(B6)," ",""),"G",""),"F",""),"D",""),"C",""),"B","") -> 0 | O6: =SUBSTITUTE(SUBSTITUTE(SUBSTITUTE(SUBSTITUTE(SUBSTITUTE(SUBSTITUTE(UPPER(N6)," ",""),"M",""),"L",""),"K",""),"J",""),"H","") -> 0 | P6: =SUBSTITUTE(SUBSTITUTE(SUBSTITUTE(SUBSTITUTE(SUBSTITUTE(SUBSTITUTE(UPPER(O6)," ",""),"S",""),"R",""),"Q",""),"P",""),"N","") -> 0 | Q6: =SUBSTITUTE(SUBSTITUTE(SUBSTITUTE(SUBSTITUTE(SUBSTITUTE(SUBSTITUTE(SUBSTITUTE(UPPER(P6)," ",""),"Z",""),"W",""),"X",""),"W",""),"V",""),"T","") -> 0 | R6: =IF(LEN(IF(LEN(M6)>3,MID(M6,1,1) & MID(M6,3,1) & MID(M6,4,1),IF(LEN(M6)=3,M6,IF(LEN(M6)=2,M6 & LEFT(Q6,1),M6 & LEFT(Q6,2)))))=2,IF(LEN(M6)>3,MID(M6,1,1) & MID(M6,3,1) & MID(M6,4,1),IF(LEN(M6)=3,M6,IF(LEN(M6)=2,M6 & LEFT(Q6,1),M6 & LEFT(Q6,2)))) & "X",IF(LEN(M6)>3,MID(M6,1,1) & MID(M6,3,1) & MID(M6,4,1),IF(LEN(M6)=3,M6,IF(LEN(M6)=2,M6 & LEFT(Q6,1),M6 & LEFT(Q6,2))))) -> 00X | S6: =(VLOOKUP(LEFT(R6,1),[1]CONTROLLO!$D$3:$E$38,2,FALSE)) + (VLOOKUP(MID(R6,2,1),[1]CONTROLLO!$A$3:$B$38,2,FALSE)) + (VLOOKUP(RIGHT(R6,1),[1]CONTROLLO!$D$3:$E$38,2,FALSE)) -> #N/A | T6: =IF(C6="","",VLOOKUP(C6,[1]COMUNI!$A$2:$C$13867,2,FALSE)) -> #N/A | U6: =(VLOOKUP(IF(LEFT(T6,1)="0","ZERO",LEFT(T6,1)),[1]CONTROLLO!$D$3:$E$38,2,FALSE)) + (VLOOKUP(IF(MID(T6,2,1)="0","ZERO",MID(T6,2,1)),[1]CONTROLLO!$A$3:$B$38,2,FALSE)) + (VLOOKUP(IF(MID(T6,3,1)="0","ZERO",MID(T6,3,1)),[1]CONTROLLO!$D$3:$E$38,2,FALSE)) + (VLOOKUP(IF(RIGHT(T6,1)="0","ZERO",RIGHT(T6,1)),[1]CONTROLLO!$A$3:$B$38,2,FALSE)) -> #N/A | V6: =RIGHT(TEXT(D6,"gg/mm/aaaa"),2) -> 00 | W6: =VLOOKUP(MID(TEXT(D6,"gg/mm/aaaa"),4,2),[1]MESI!$A$2:$B$13,2,FALSE) -> A | X6: =IF(E6="M",LEFT(TEXT(D6,"gg/mm/aaaa"),2),IF(E6="F",LEFT(TEXT(D6,"gg/mm/aaaa"),2)+40,"")) -> 00 | Y6: =IF(X6="","",V6&W6&X6) -> 00A00 | Z6: =(VLOOKUP(IF(LEFT(Y6,1)="0","ZERO",LEFT(Y6,1)),[1]CONTROLLO!$A$3:$B$38,2,FALSE)) + (VLOOKUP(IF(MID(Y6,2,1)="0","ZERO",MID(Y6,2,1)),[1]CONTROLLO!$D$3:$E$38,2,FALSE)) + (VLOOKUP(IF(MID(Y6,3,1)="0","ZERO",MID(Y6,3,1)),[1]CONTROLLO!$A$3:$B$38,2,FALSE)) + (VLOOKUP(IF(MID(Y6,4,1)="0","ZERO",MID(Y6,4,1)),[1]CONTROLLO!$D$3:$E$38,2,FALSE)) + (VLOOKUP(IF(RIGHT(Y6,1)="0","ZERO",RIGHT(Y6,1)),[1]CONTROLLO!$A$3:$B$38,2,FALSE)) -> 3 | AA6: =VLOOKUP(IF(TEXT(MOD(L6+S6+U6+Z6,26),"#")="0","ZERO",IF(TEXT(MOD(L6+S6+U6+Z6,26),"#")="","ZERO",TEXT(MOD(L6+S6+U6+Z6,26),"#"))),[1]CONTROLLO!$G$3:$H$28,2,FALSE) -> #N/A | AB6: =IF(K6<>"",IF(R6<>"",IF(T6<>"",IF(Y6<>"",IF(AA6<>"",K6&R6&Y6&T6&AA6,""),""),""),""),"") -> #N/A
A7: ='ELENCO ATLETI'!D22 -> 0 | B7: ='ELENCO ATLETI'!E22 -> 0 | C7: ='ELENCO ATLETI'!F22 -> 0 | D7: ='ELENCO ATLETI'!G22 -> 0 | E7: M | F7: =SUBSTITUTE(SUBSTITUTE(SUBSTITUTE(SUBSTITUTE(SUBSTITUTE(SUBSTITUTE(UPPER(A7)," ",""),"U",""),"O",""),"I",""),"E",""),"A","") -> 0 | G7: =SUBSTITUTE(SUBSTITUTE(SUBSTITUTE(SUBSTITUTE(SUBSTITUTE(SUBSTITUTE(UPPER(A7)," ",""),"G",""),"F",""),"D",""),"C",""),"B","") -> 0 | H7: =SUBSTITUTE(SUBSTITUTE(SUBSTITUTE(SUBSTITUTE(SUBSTITUTE(SUBSTITUTE(UPPER(G7)," ",""),"M",""),"L",""),"K",""),"J",""),"H","") -> 0 | I7: =SUBSTITUTE(SUBSTITUTE(SUBSTITUTE(SUBSTITUTE(SUBSTITUTE(SUBSTITUTE(UPPER(H7)," ",""),"S",""),"R",""),"Q",""),"P",""),"N","") -> 0 | J7: =SUBSTITUTE(SUBSTITUTE(SUBSTITUTE(SUBSTITUTE(SUBSTITUTE(SUBSTITUTE(SUBSTITUTE(UPPER(I7)," ",""),"Z",""),"W",""),"X",""),"W",""),"V",""),"T","") -> 0 | K7: =IF(LEN(IF(LEN(F7)>=3,LEFT(F7,3),IF(LEN(F7)=2,F7 & LEFT(J7,1),F7 & LEFT(J7,2))))=2,IF(LEN(F7)>=3,LEFT(F7,3),IF(LEN(F7)=2,F7 & LEFT(J7,1),F7 & LEFT(J7,2))) & "X",IF(LEN(F7)>=3,LEFT(F7,3),IF(LEN(F7)=2,F7 & LEFT(J7,1),F7 & LEFT(J7,2)))) -> 00X | L7: =(VLOOKUP(LEFT(K7,1),[1]CONTROLLO!$A$3:$B$38,2,FALSE)) + (VLOOKUP(MID(K7,2,1),[1]CONTROLLO!$D$3:$E$38,2,FALSE)) + (VLOOKUP(RIGHT(K7,1),[1]CONTROLLO!$A$3:$B$38,2,FALSE)) -> #N/A | M7: =SUBSTITUTE(SUBSTITUTE(SUBSTITUTE(SUBSTITUTE(SUBSTITUTE(SUBSTITUTE(UPPER(B7)," ",""),"U",""),"O",""),"I",""),"E",""),"A","") -> 0 | N7: =SUBSTITUTE(SUBSTITUTE(SUBSTITUTE(SUBSTITUTE(SUBSTITUTE(SUBSTITUTE(UPPER(B7)," ",""),"G",""),"F",""),"D",""),"C",""),"B","") -> 0 | O7: =SUBSTITUTE(SUBSTITUTE(SUBSTITUTE(SUBSTITUTE(SUBSTITUTE(SUBSTITUTE(UPPER(N7)," ",""),"M",""),"L",""),"K",""),"J",""),"H","") -> 0 | P7: =SUBSTITUTE(SUBSTITUTE(SUBSTITUTE(SUBSTITUTE(SUBSTITUTE(SUBSTITUTE(UPPER(O7)," ",""),"S",""),"R",""),"Q",""),"P",""),"N","") -> 0 | Q7: =SUBSTITUTE(SUBSTITUTE(SUBSTITUTE(SUBSTITUTE(SUBSTITUTE(SUBSTITUTE(SUBSTITUTE(UPPER(P7)," ",""),"Z",""),"W",""),"X",""),"W",""),"V",""),"T","") -> 0 | R7: =IF(LEN(IF(LEN(M7)>3,MID(M7,1,1) & MID(M7,3,1) & MID(M7,4,1),IF(LEN(M7)=3,M7,IF(LEN(M7)=2,M7 & LEFT(Q7,1),M7 & LEFT(Q7,2)))))=2,IF(LEN(M7)>3,MID(M7,1,1) & MID(M7,3,1) & MID(M7,4,1),IF(LEN(M7)=3,M7,IF(LEN(M7)=2,M7 & LEFT(Q7,1),M7 & LEFT(Q7,2)))) & "X",IF(LEN(M7)>3,MID(M7,1,1) & MID(M7,3,1) & MID(M7,4,1),IF(LEN(M7)=3,M7,IF(LEN(M7)=2,M7 & LEFT(Q7,1),M7 & LEFT(Q7,2))))) -> 00X | S7: =(VLOOKUP(LEFT(R7,1),[1]CONTROLLO!$D$3:$E$38,2,FALSE)) + (VLOOKUP(MID(R7,2,1),[1]CONTROLLO!$A$3:$B$38,2,FALSE)) + (VLOOKUP(RIGHT(R7,1),[1]CONTROLLO!$D$3:$E$38,2,FALSE)) -> #N/A | T7: =IF(C7="","",VLOOKUP(C7,[1]COMUNI!$A$2:$C$13867,2,FALSE)) -> #N/A | U7: =(VLOOKUP(IF(LEFT(T7,1)="0","ZERO",LEFT(T7,1)),[1]CONTROLLO!$D$3:$E$38,2,FALSE)) + (VLOOKUP(IF(MID(T7,2,1)="0","ZERO",MID(T7,2,1)),[1]CONTROLLO!$A$3:$B$38,2,FALSE)) + (VLOOKUP(IF(MID(T7,3,1)="0","ZERO",MID(T7,3,1)),[1]CONTROLLO!$D$3:$E$38,2,FALSE)) + (VLOOKUP(IF(RIGHT(T7,1)="0","ZERO",RIGHT(T7,1)),[1]CONTROLLO!$A$3:$B$38,2,FALSE)) -> #N/A | V7: =RIGHT(TEXT(D7,"gg/mm/aaaa"),2) -> 00 | W7: =VLOOKUP(MID(TEXT(D7,"gg/mm/aaaa"),4,2),[1]MESI!$A$2:$B$13,2,FALSE) -> A | X7: =IF(E7="M",LEFT(TEXT(D7,"gg/mm/aaaa"),2),IF(E7="F",LEFT(TEXT(D7,"gg/mm/aaaa"),2)+40,"")) -> 00 | Y7: =IF(X7="","",V7&W7&X7) -> 00A00 | Z7: =(VLOOKUP(IF(LEFT(Y7,1)="0","ZERO",LEFT(Y7,1)),[1]CONTROLLO!$A$3:$B$38,2,FALSE)) + (VLOOKUP(IF(MID(Y7,2,1)="0","ZERO",MID(Y7,2,1)),[1]CONTROLLO!$D$3:$E$38,2,FALSE)) + (VLOOKUP(IF(MID(Y7,3,1)="0","ZERO",MID(Y7,3,1)),[1]CONTROLLO!$A$3:$B$38,2,FALSE)) + (VLOOKUP(IF(MID(Y7,4,1)="0","ZERO",MID(Y7,4,1)),[1]CONTROLLO!$D$3:$E$38,2,FALSE)) + (VLOOKUP(IF(RIGHT(Y7,1)="0","ZERO",RIGHT(Y7,1)),[1]CONTROLLO!$A$3:$B$38,2,FALSE)) -> 3 | AA7: =VLOOKUP(IF(TEXT(MOD(L7+S7+U7+Z7,26),"#")="0","ZERO",IF(TEXT(MOD(L7+S7+U7+Z7,26),"#")="","ZERO",TEXT(MOD(L7+S7+U7+Z7,26),"#"))),[1]CONTROLLO!$G$3:$H$28,2,FALSE) -> #N/A | AB7: =IF(K7<>"",IF(R7<>"",IF(T7<>"",IF(Y7<>"",IF(AA7<>"",K7&R7&Y7&T7&AA7,""),""),""),""),"") -> #N/A
A8: ='ELENCO ATLETI'!D23 -> 0 | B8: ='ELENCO ATLETI'!E23 -> 0 | C8: ='ELENCO ATLETI'!F23 -> 0 | D8: ='ELENCO ATLETI'!G23 -> 0 | E8: M | F8: =SUBSTITUTE(SUBSTITUTE(SUBSTITUTE(SUBSTITUTE(SUBSTITUTE(SUBSTITUTE(UPPER(A8)," ",""),"U",""),"O",""),"I",""),"E",""),"A","") -> 0 | G8: =SUBSTITUTE(SUBSTITUTE(SUBSTITUTE(SUBSTITUTE(SUBSTITUTE(SUBSTITUTE(UPPER(A8)," ",""),"G",""),"F",""),"D",""),"C",""),"B","") -> 0 | H8: =SUBSTITUTE(SUBSTITUTE(SUBSTITUTE(SUBSTITUTE(SUBSTITUTE(SUBSTITUTE(UPPER(G8)," ",""),"M",""),"L",""),"K",""),"J",""),"H","") -> 0 | I8: =SUBSTITUTE(SUBSTITUTE(SUBSTITUTE(SUBSTITUTE(SUBSTITUTE(SUBSTITUTE(UPPER(H8)," ",""),"S",""),"R",""),"Q",""),"P",""),"N","") -> 0 | J8: =SUBSTITUTE(SUBSTITUTE(SUBSTITUTE(SUBSTITUTE(SUBSTITUTE(SUBSTITUTE(SUBSTITUTE(UPPER(I8)," ",""),"Z",""),"W",""),"X",""),"W",""),"V",""),"T","") -> 0 | K8: =IF(LEN(IF(LEN(F8)>=3,LEFT(F8,3),IF(LEN(F8)=2,F8 & LEFT(J8,1),F8 & LEFT(J8,2))))=2,IF(LEN(F8)>=3,LEFT(F8,3),IF(LEN(F8)=2,F8 & LEFT(J8,1),F8 & LEFT(J8,2))) & "X",IF(LEN(F8)>=3,LEFT(F8,3),IF(LEN(F8)=2,F8 & LEFT(J8,1),F8 & LEFT(J8,2)))) -> 00X | L8: =(VLOOKUP(LEFT(K8,1),[1]CONTROLLO!$A$3:$B$38,2,FALSE)) + (VLOOKUP(MID(K8,2,1),[1]CONTROLLO!$D$3:$E$38,2,FALSE)) + (VLOOKUP(RIGHT(K8,1),[1]CONTROLLO!$A$3:$B$38,2,FALSE)) -> #N/A | M8: =SUBSTITUTE(SUBSTITUTE(SUBSTITUTE(SUBSTITUTE(SUBSTITUTE(SUBSTITUTE(UPPER(B8)," ",""),"U",""),"O",""),"I",""),"E",""),"A","") -> 0 | N8: =SUBSTITUTE(SUBSTITUTE(SUBSTITUTE(SUBSTITUTE(SUBSTITUTE(SUBSTITUTE(UPPER(B8)," ",""),"G",""),"F",""),"D",""),"C",""),"B","") -> 0 | O8: =SUBSTITUTE(SUBSTITUTE(SUBSTITUTE(SUBSTITUTE(SUBSTITUTE(SUBSTITUTE(UPPER(N8)," ",""),"M",""),"L",""),"K",""),"J",""),"H","") -> 0 | P8: =SUBSTITUTE(SUBSTITUTE(SUBSTITUTE(SUBSTITUTE(SUBSTITUTE(SUBSTITUTE(UPPER(O8)," ",""),"S",""),"R",""),"Q",""),"P",""),"N","") -> 0 | Q8: =SUBSTITUTE(SUBSTITUTE(SUBSTITUTE(SUBSTITUTE(SUBSTITUTE(SUBSTITUTE(SUBSTITUTE(UPPER(P8)," ",""),"Z",""),"W",""),"X",""),"W",""),"V",""),"T","") -> 0 | R8: =IF(LEN(IF(LEN(M8)>3,MID(M8,1,1) & MID(M8,3,1) & MID(M8,4,1),IF(LEN(M8)=3,M8,IF(LEN(M8)=2,M8 & LEFT(Q8,1),M8 & LEFT(Q8,2)))))=2,IF(LEN(M8)>3,MID(M8,1,1) & MID(M8,3,1) & MID(M8,4,1),IF(LEN(M8)=3,M8,IF(LEN(M8)=2,M8 & LEFT(Q8,1),M8 & LEFT(Q8,2)))) & "X",IF(LEN(M8)>3,MID(M8,1,1) & MID(M8,3,1) & MID(M8,4,1),IF(LEN(M8)=3,M8,IF(LEN(M8)=2,M8 & LEFT(Q8,1),M8 & LEFT(Q8,2))))) -> 00X | S8: =(VLOOKUP(LEFT(R8,1),[1]CONTROLLO!$D$3:$E$38,2,FALSE)) + (VLOOKUP(MID(R8,2,1),[1]CONTROLLO!$A$3:$B$38,2,FALSE)) + (VLOOKUP(RIGHT(R8,1),[1]CONTROLLO!$D$3:$E$38,2,FALSE)) -> #N/A | T8: =IF(C8="","",VLOOKUP(C8,[1]COMUNI!$A$2:$C$13867,2,FALSE)) -> #N/A | U8: =(VLOOKUP(IF(LEFT(T8,1)="0","ZERO",LEFT(T8,1)),[1]CONTROLLO!$D$3:$E$38,2,FALSE)) + (VLOOKUP(IF(MID(T8,2,1)="0","ZERO",MID(T8,2,1)),[1]CONTROLLO!$A$3:$B$38,2,FALSE)) + (VLOOKUP(IF(MID(T8,3,1)="0","ZERO",MID(T8,3,1)),[1]CONTROLLO!$D$3:$E$38,2,FALSE)) + (VLOOKUP(IF(RIGHT(T8,1)="0","ZERO",RIGHT(T8,1)),[1]CONTROLLO!$A$3:$B$38,2,FALSE)) -> #N/A | V8: =RIGHT(TEXT(D8,"gg/mm/aaaa"),2) -> 00 | W8: =VLOOKUP(MID(TEXT(D8,"gg/mm/aaaa"),4,2),[1]MESI!$A$2:$B$13,2,FALSE) -> A | X8: =IF(E8="M",LEFT(TEXT(D8,"gg/mm/aaaa"),2),IF(E8="F",LEFT(TEXT(D8,"gg/mm/aaaa"),2)+40,"")) -> 00 | Y8: =IF(X8="","",V8&W8&X8) -> 00A00 | Z8: =(VLOOKUP(IF(LEFT(Y8,1)="0","ZERO",LEFT(Y8,1)),[1]CONTROLLO!$A$3:$B$38,2,FALSE)) + (VLOOKUP(IF(MID(Y8,2,1)="0","ZERO",MID(Y8,2,1)),[1]CONTROLLO!$D$3:$E$38,2,FALSE)) + (VLOOKUP(IF(MID(Y8,3,1)="0","ZERO",MID(Y8,3,1)),[1]CONTROLLO!$A$3:$B$38,2,FALSE)) + (VLOOKUP(IF(MID(Y8,4,1)="0","ZERO",MID(Y8,4,1)),[1]CONTROLLO!$D$3:$E$38,2,FALSE)) + (VLOOKUP(IF(RIGHT(Y8,1)="0","ZERO",RIGHT(Y8,1)),[1]CONTROLLO!$A$3:$B$38,2,FALSE)) -> 3 | AA8: =VLOOKUP(IF(TEXT(MOD(L8+S8+U8+Z8,26),"#")="0","ZERO",IF(TEXT(MOD(L8+S8+U8+Z8,26),"#")="","ZERO",TEXT(MOD(L8+S8+U8+Z8,26),"#"))),[1]CONTROLLO!$G$3:$H$28,2,FALSE) -> #N/A | AB8: =IF(K8<>"",IF(R8<>"",IF(T8<>"",IF(Y8<>"",IF(AA8<>"",K8&R8&Y8&T8&AA8,""),""),""),""),"") -> #N/A
A9: ='ELENCO ATLETI'!D24 -> 0 | B9: ='ELENCO ATLETI'!E24 -> 0 | C9: ='ELENCO ATLETI'!F24 -> 0 | D9: ='ELENCO ATLETI'!G24 -> 0 | E9: M | F9: =SUBSTITUTE(SUBSTITUTE(SUBSTITUTE(SUBSTITUTE(SUBSTITUTE(SUBSTITUTE(UPPER(A9)," ",""),"U",""),"O",""),"I",""),"E",""),"A","") -> 0 | G9: =SUBSTITUTE(SUBSTITUTE(SUBSTITUTE(SUBSTITUTE(SUBSTITUTE(SUBSTITUTE(UPPER(A9)," ",""),"G",""),"F",""),"D",""),"C",""),"B","") -> 0 | H9: =SUBSTITUTE(SUBSTITUTE(SUBSTITUTE(SUBSTITUTE(SUBSTITUTE(SUBSTITUTE(UPPER(G9)," ",""),"M",""),"L",""),"K",""),"J",""),"H","") -> 0 | I9: =SUBSTITUTE(SUBSTITUTE(SUBSTITUTE(SUBSTITUTE(SUBSTITUTE(SUBSTITUTE(UPPER(H9)," ",""),"S",""),"R",""),"Q",""),"P",""),"N","") -> 0 | J9: =SUBSTITUTE(SUBSTITUTE(SUBSTITUTE(SUBSTITUTE(SUBSTITUTE(SUBSTITUTE(SUBSTITUTE(UPPER(I9)," ",""),"Z",""),"W",""),"X",""),"W",""),"V",""),"T","") -> 0 | K9: =IF(LEN(IF(LEN(F9)>=3,LEFT(F9,3),IF(LEN(F9)=2,F9 & LEFT(J9,1),F9 & LEFT(J9,2))))=2,IF(LEN(F9)>=3,LEFT(F9,3),IF(LEN(F9)=2,F9 & LEFT(J9,1),F9 & LEFT(J9,2))) & "X",IF(LEN(F9)>=3,LEFT(F9,3),IF(LEN(F9)=2,F9 & LEFT(J9,1),F9 & LEFT(J9,2)))) -> 00X | L9: =(VLOOKUP(LEFT(K9,1),[1]CONTROLLO!$A$3:$B$38,2,FALSE)) + (VLOOKUP(MID(K9,2,1),[1]CONTROLLO!$D$3:$E$38,2,FALSE)) + (VLOOKUP(RIGHT(K9,1),[1]CONTROLLO!$A$3:$B$38,2,FALSE)) -> #N/A | M9: =SUBSTITUTE(SUBSTITUTE(SUBSTITUTE(SUBSTITUTE(SUBSTITUTE(SUBSTITUTE(UPPER(B9)," ",""),"U",""),"O",""),"I",""),"E",""),"A","") -> 0 | N9: =SUBSTITUTE(SUBSTITUTE(SUBSTITUTE(SUBSTITUTE(SUBSTITUTE(SUBSTITUTE(UPPER(B9)," ",""),"G",""),"F",""),"D",""),"C",""),"B","") -> 0 | O9: =SUBSTITUTE(SUBSTITUTE(SUBSTITUTE(SUBSTITUTE(SUBSTITUTE(SUBSTITUTE(UPPER(N9)," ",""),"M",""),"L",""),"K",""),"J",""),"H","") -> 0 | P9: =SUBSTITUTE(SUBSTITUTE(SUBSTITUTE(SUBSTITUTE(SUBSTITUTE(SUBSTITUTE(UPPER(O9)," ",""),"S",""),"R",""),"Q",""),"P",""),"N","") -> 0 | Q9: =SUBSTITUTE(SUBSTITUTE(SUBSTITUTE(SUBSTITUTE(SUBSTITUTE(SUBSTITUTE(SUBSTITUTE(UPPER(P9)," ",""),"Z",""),"W",""),"X",""),"W",""),"V",""),"T","") -> 0 | R9: =IF(LEN(IF(LEN(M9)>3,MID(M9,1,1) & MID(M9,3,1) & MID(M9,4,1),IF(LEN(M9)=3,M9,IF(LEN(M9)=2,M9 & LEFT(Q9,1),M9 & LEFT(Q9,2)))))=2,IF(LEN(M9)>3,MID(M9,1,1) & MID(M9,3,1) & MID(M9,4,1),IF(LEN(M9)=3,M9,IF(LEN(M9)=2,M9 & LEFT(Q9,1),M9 & LEFT(Q9,2)))) & "X",IF(LEN(M9)>3,MID(M9,1,1) & MID(M9,3,1) & MID(M9,4,1),IF(LEN(M9)=3,M9,IF(LEN(M9)=2,M9 & LEFT(Q9,1),M9 & LEFT(Q9,2))))) -> 00X | S9: =(VLOOKUP(LEFT(R9,1),[1]CONTROLLO!$D$3:$E$38,2,FALSE)) + (VLOOKUP(MID(R9,2,1),[1]CONTROLLO!$A$3:$B$38,2,FALSE)) + (VLOOKUP(RIGHT(R9,1),[1]CONTROLLO!$D$3:$E$38,2,FALSE)) -> #N/A | T9: =IF(C9="","",VLOOKUP(C9,[1]COMUNI!$A$2:$C$13867,2,FALSE)) -> #N/A | U9: =(VLOOKUP(IF(LEFT(T9,1)="0","ZERO",LEFT(T9,1)),[1]CONTROLLO!$D$3:$E$38,2,FALSE)) + (VLOOKUP(IF(MID(T9,2,1)="0","ZERO",MID(T9,2,1)),[1]CONTROLLO!$A$3:$B$38,2,FALSE)) + (VLOOKUP(IF(MID(T9,3,1)="0","ZERO",MID(T9,3,1)),[1]CONTROLLO!$D$3:$E$38,2,FALSE)) + (VLOOKUP(IF(RIGHT(T9,1)="0","ZERO",RIGHT(T9,1)),[1]CONTROLLO!$A$3:$B$38,2,FALSE)) -> #N/A | V9: =RIGHT(TEXT(D9,"gg/mm/aaaa"),2) -> 00 | W9: =VLOOKUP(MID(TEXT(D9,"gg/mm/aaaa"),4,2),[1]MESI!$A$2:$B$13,2,FALSE) -> A | X9: =IF(E9="M",LEFT(TEXT(D9,"gg/mm/aaaa"),2),IF(E9="F",LEFT(TEXT(D9,"gg/mm/aaaa"),2)+40,"")) -> 00 | Y9: =IF(X9="","",V9&W9&X9) -> 00A00 | Z9: =(VLOOKUP(IF(LEFT(Y9,1)="0","ZERO",LEFT(Y9,1)),[1]CONTROLLO!$A$3:$B$38,2,FALSE)) + (VLOOKUP(IF(MID(Y9,2,1)="0","ZERO",MID(Y9,2,1)),[1]CONTROLLO!$D$3:$E$38,2,FALSE)) + (VLOOKUP(IF(MID(Y9,3,1)="0","ZERO",MID(Y9,3,1)),[1]CONTROLLO!$A$3:$B$38,2,FALSE)) + (VLOOKUP(IF(MID(Y9,4,1)="0","ZERO",MID(Y9,4,1)),[1]CONTROLLO!$D$3:$E$38,2,FALSE)) + (VLOOKUP(IF(RIGHT(Y9,1)="0","ZERO",RIGHT(Y9,1)),[1]CONTROLLO!$A$3:$B$38,2,FALSE)) -> 3 | AA9: =VLOOKUP(IF(TEXT(MOD(L9+S9+U9+Z9,26),"#")="0","ZERO",IF(TEXT(MOD(L9+S9+U9+Z9,26),"#")="","ZERO",TEXT(MOD(L9+S9+U9+Z9,26),"#"))),[1]CONTROLLO!$G$3:$H$28,2,FALSE) -> #N/A | AB9: =IF(K9<>"",IF(R9<>"",IF(T9<>"",IF(Y9<>"",IF(AA9<>"",K9&R9&Y9&T9&AA9,""),""),""),""),"") -> #N/A
A10: ='ELENCO ATLETI'!#REF! -> #REF! | B10: ='ELENCO ATLETI'!#REF! -> #REF! | C10: ='ELENCO ATLETI'!#REF! -> #REF! | D10: ='ELENCO ATLETI'!#REF! -> #REF! | E10: M | F10: =SUBSTITUTE(SUBSTITUTE(SUBSTITUTE(SUBSTITUTE(SUBSTITUTE(SUBSTITUTE(UPPER(A10)," ",""),"U",""),"O",""),"I",""),"E",""),"A","") -> #REF! | G10: =SUBSTITUTE(SUBSTITUTE(SUBSTITUTE(SUBSTITUTE(SUBSTITUTE(SUBSTITUTE(UPPER(A10)," ",""),"G",""),"F",""),"D",""),"C",""),"B","") -> #REF! | H10: =SUBSTITUTE(SUBSTITUTE(SUBSTITUTE(SUBSTITUTE(SUBSTITUTE(SUBSTITUTE(UPPER(G10)," ",""),"M",""),"L",""),"K",""),"J",""),"H","") -> #REF! | I10: =SUBSTITUTE(SUBSTITUTE(SUBSTITUTE(SUBSTITUTE(SUBSTITUTE(SUBSTITUTE(UPPER(H10)," ",""),"S",""),"R",""),"Q",""),"P",""),"N","") -> #REF! | J10: =SUBSTITUTE(SUBSTITUTE(SUBSTITUTE(SUBSTITUTE(SUBSTITUTE(SUBSTITUTE(SUBSTITUTE(UPPER(I10)," ",""),"Z",""),"W",""),"X",""),"W",""),"V",""),"T","") -> #REF! | K10: =IF(LEN(IF(LEN(F10)>=3,LEFT(F10,3),IF(LEN(F10)=2,F10 & LEFT(J10,1),F10 & LEFT(J10,2))))=2,IF(LEN(F10)>=3,LEFT(F10,3),IF(LEN(F10)=2,F10 & LEFT(J10,1),F10 & LEFT(J10,2))) & "X",IF(LEN(F10)>=3,LEFT(F10,3),IF(LEN(F10)=2,F10 & LEFT(J10,1),F10 & LEFT(J10,2)))) -> #REF! | L10: =(VLOOKUP(LEFT(K10,1),[1]CONTROLLO!$A$3:$B$38,2,FALSE)) + (VLOOKUP(MID(K10,2,1),[1]CONTROLLO!$D$3:$E$38,2,FALSE)) + (VLOOKUP(RIGHT(K10,1),[1]CONTROLLO!$A$3:$B$38,2,FALSE)) -> #REF! | M10: =SUBSTITUTE(SUBSTITUTE(SUBSTITUTE(SUBSTITUTE(SUBSTITUTE(SUBSTITUTE(UPPER(B10)," ",""),"U",""),"O",""),"I",""),"E",""),"A","") -> #REF! | N10: =SUBSTITUTE(SUBSTITUTE(SUBSTITUTE(SUBSTITUTE(SUBSTITUTE(SUBSTITUTE(UPPER(B10)," ",""),"G",""),"F",""),"D",""),"C",""),"B","") -> #REF! | O10: =SUBSTITUTE(SUBSTITUTE(SUBSTITUTE(SUBSTITUTE(SUBSTITUTE(SUBSTITUTE(UPPER(N10)," ",""),"M",""),"L",""),"K",""),"J",""),"H","") -> #REF! | P10: =SUBSTITUTE(SUBSTITUTE(SUBSTITUTE(SUBSTITUTE(SUBSTITUTE(SUBSTITUTE(UPPER(O10)," ",""),"S",""),"R",""),"Q",""),"P",""),"N","") -> #REF! | Q10: =SUBSTITUTE(SUBSTITUTE(SUBSTITUTE(SUBSTITUTE(SUBSTITUTE(SUBSTITUTE(SUBSTITUTE(UPPER(P10)," ",""),"Z",""),"W",""),"X",""),"W",""),"V",""),"T","") -> #REF! | R10: =IF(LEN(IF(LEN(M10)>3,MID(M10,1,1) & MID(M10,3,1) & MID(M10,4,1),IF(LEN(M10)=3,M10,IF(LEN(M10)=2,M10 & LEFT(Q10,1),M10 & LEFT(Q10,2)))))=2,IF(LEN(M10)>3,MID(M10,1,1) & MID(M10,3,1) & MID(M10,4,1),IF(LEN(M10)=3,M10,IF(LEN(M10)=2,M10 & LEFT(Q10,1),M10 & LEFT(Q10,2)))) & "X",IF(LEN(M10)>3,MID(M10,1,1) & MID(M10,3,1) & MID(M10,4,1),IF(LEN(M10)=3,M10,IF(LEN(M10)=2,M10 & LEFT(Q10,1),M10 & LEFT(Q10,2))))) -> #REF! | S10: =(VLOOKUP(LEFT(R10,1),[1]CONTROLLO!$D$3:$E$38,2,FALSE)) + (VLOOKUP(MID(R10,2,1),[1]CONTROLLO!$A$3:$B$38,2,FALSE)) + (VLOOKUP(RIGHT(R10,1),[1]CONTROLLO!$D$3:$E$38,2,FALSE)) -> #REF! | T10: =IF(C10="","",VLOOKUP(C10,[1]COMUNI!$A$2:$C$13867,2,FALSE)) -> #REF! | U10: =(VLOOKUP(IF(LEFT(T10,1)="0","ZERO",LEFT(T10,1)),[1]CONTROLLO!$D$3:$E$38,2,FALSE)) + (VLOOKUP(IF(MID(T10,2,1)="0","ZERO",MID(T10,2,1)),[1]CONTROLLO!$A$3:$B$38,2,FALSE)) + (VLOOKUP(IF(MID(T10,3,1)="0","ZERO",MID(T10,3,1)),[1]CONTROLLO!$D$3:$E$38,2,FALSE)) + (VLOOKUP(IF(RIGHT(T10,1)="0","ZERO",RIGHT(T10,1)),[1]CONTROLLO!$A$3:$B$38,2,FALSE)) -> #REF! | V10: =RIGHT(TEXT(D10,"gg/mm/aaaa"),2) -> #REF! | W10: =VLOOKUP(MID(TEXT(D10,"gg/mm/aaaa"),4,2),[1]MESI!$A$2:$B$13,2,FALSE) -> #REF! | X10: =IF(E10="M",LEFT(TEXT(D10,"gg/mm/aaaa"),2),IF(E10="F",LEFT(TEXT(D10,"gg/mm/aaaa"),2)+40,"")) -> #REF! | Y10: =IF(X10="","",V10&W10&X10) -> #REF! | Z10: =(VLOOKUP(IF(LEFT(Y10,1)="0","ZERO",LEFT(Y10,1)),[1]CONTROLLO!$A$3:$B$38,2,FALSE)) + (VLOOKUP(IF(MID(Y10,2,1)="0","ZERO",MID(Y10,2,1)),[1]CONTROLLO!$D$3:$E$38,2,FALSE)) + (VLOOKUP(IF(MID(Y10,3,1)="0","ZERO",MID(Y10,3,1)),[1]CONTROLLO!$A$3:$B$38,2,FALSE)) + (VLOOKUP(IF(MID(Y10,4,1)="0","ZERO",MID(Y10,4,1)),[1]CONTROLLO!$D$3:$E$38,2,FALSE)) + (VLOOKUP(IF(RIGHT(Y10,1)="0","ZERO",RIGHT(Y10,1)),[1]CONTROLLO!$A$3:$B$38,2,FALSE)) -> #REF! | AA10: =VLOOKUP(IF(TEXT(MOD(L10+S10+U10+Z10,26),"#")="0","ZERO",IF(TEXT(MOD(L10+S10+U10+Z10,26),"#")="","ZERO",TEXT(MOD(L10+S10+U10+Z10,26),"#"))),[1]CONTROLLO!$G$3:$H$28,2,FALSE) -> #REF! | AB10: =IF(K10<>"",IF(R10<>"",IF(T10<>"",IF(Y10<>"",IF(AA10<>"",K10&R10&Y10&T10&AA10,""),""),""),""),"") -> #REF!
A11: ='ELENCO ATLETI'!#REF! -> #REF! | B11: ='ELENCO ATLETI'!#REF! -> #REF! | C11: ='ELENCO ATLETI'!#REF! -> #REF! | D11: ='ELENCO ATLETI'!#REF! -> #REF! | E11: M | F11: =SUBSTITUTE(SUBSTITUTE(SUBSTITUTE(SUBSTITUTE(SUBSTITUTE(SUBSTITUTE(UPPER(A11)," ",""),"U",""),"O",""),"I",""),"E",""),"A","") -> #REF! | G11: =SUBSTITUTE(SUBSTITUTE(SUBSTITUTE(SUBSTITUTE(SUBSTITUTE(SUBSTITUTE(UPPER(A11)," ",""),"G",""),"F",""),"D",""),"C",""),"B","") -> #REF! | H11: =SUBSTITUTE(SUBSTITUTE(SUBSTITUTE(SUBSTITUTE(SUBSTITUTE(SUBSTITUTE(UPPER(G11)," ",""),"M",""),"L",""),"K",""),"J",""),"H","") -> #REF! | I11: =SUBSTITUTE(SUBSTITUTE(SUBSTITUTE(SUBSTITUTE(SUBSTITUTE(SUBSTITUTE(UPPER(H11)," ",""),"S",""),"R",""),"Q",""),"P",""),"N","") -> #REF! | J11: =SUBSTITUTE(SUBSTITUTE(SUBSTITUTE(SUBSTITUTE(SUBSTITUTE(SUBSTITUTE(SUBSTITUTE(UPPER(I11)," ",""),"Z",""),"W",""),"X",""),"W",""),"V",""),"T","") -> #REF! | K11: =IF(LEN(IF(LEN(F11)>=3,LEFT(F11,3),IF(LEN(F11)=2,F11 & LEFT(J11,1),F11 & LEFT(J11,2))))=2,IF(LEN(F11)>=3,LEFT(F11,3),IF(LEN(F11)=2,F11 & LEFT(J11,1),F11 & LEFT(J11,2))) & "X",IF(LEN(F11)>=3,LEFT(F11,3),IF(LEN(F11)=2,F11 & LEFT(J11,1),F11 & LEFT(J11,2)))) -> #REF! | L11: =(VLOOKUP(LEFT(K11,1),[1]CONTROLLO!$A$3:$B$38,2,FALSE)) + (VLOOKUP(MID(K11,2,1),[1]CONTROLLO!$D$3:$E$38,2,FALSE)) + (VLOOKUP(RIGHT(K11,1),[1]CONTROLLO!$A$3:$B$38,2,FALSE)) -> #REF! | M11: =SUBSTITUTE(SUBSTITUTE(SUBSTITUTE(SUBSTITUTE(SUBSTITUTE(SUBSTITUTE(UPPER(B11)," ",""),"U",""),"O",""),"I",""),"E",""),"A","") -> #REF! | N11: =SUBSTITUTE(SUBSTITUTE(SUBSTITUTE(SUBSTITUTE(SUBSTITUTE(SUBSTITUTE(UPPER(B11)," ",""),"G",""),"F",""),"D",""),"C",""),"B","") -> #REF! | O11: =SUBSTITUTE(SUBSTITUTE(SUBSTITUTE(SUBSTITUTE(SUBSTITUTE(SUBSTITUTE(UPPER(N11)," ",""),"M",""),"L",""),"K",""),"J",""),"H","") -> #REF! | P11: =SUBSTITUTE(SUBSTITUTE(SUBSTITUTE(SUBSTITUTE(SUBSTITUTE(SUBSTITUTE(UPPER(O11)," ",""),"S",""),"R",""),"Q",""),"P",""),"N","") -> #REF! | Q11: =SUBSTITUTE(SUBSTITUTE(SUBSTITUTE(SUBSTITUTE(SUBSTITUTE(SUBSTITUTE(SUBSTITUTE(UPPER(P11)," ",""),"Z",""),"W",""),"X",""),"W",""),"V",""),"T","") -> #REF! | R11: =IF(LEN(IF(LEN(M11)>3,MID(M11,1,1) & MID(M11,3,1) & MID(M11,4,1),IF(LEN(M11)=3,M11,IF(LEN(M11)=2,M11 & LEFT(Q11,1),M11 & LEFT(Q11,2)))))=2,IF(LEN(M11)>3,MID(M11,1,1) & MID(M11,3,1) & MID(M11,4,1),IF(LEN(M11)=3,M11,IF(LEN(M11)=2,M11 & LEFT(Q11,1),M11 & LEFT(Q11,2)))) & "X",IF(LEN(M11)>3,MID(M11,1,1) & MID(M11,3,1) & MID(M11,4,1),IF(LEN(M11)=3,M11,IF(LEN(M11)=2,M11 & LEFT(Q11,1),M11 & LEFT(Q11,2))))) -> #REF! | S11: =(VLOOKUP(LEFT(R11,1),[1]CONTROLLO!$D$3:$E$38,2,FALSE)) + (VLOOKUP(MID(R11,2,1),[1]CONTROLLO!$A$3:$B$38,2,FALSE)) + (VLOOKUP(RIGHT(R11,1),[1]CONTROLLO!$D$3:$E$38,2,FALSE)) -> #REF! | T11: =IF(C11="","",VLOOKUP(C11,[1]COMUNI!$A$2:$C$13867,2,FALSE)) -> #REF! | U11: =(VLOOKUP(IF(LEFT(T11,1)="0","ZERO",LEFT(T11,1)),[1]CONTROLLO!$D$3:$E$38,2,FALSE)) + (VLOOKUP(IF(MID(T11,2,1)="0","ZERO",MID(T11,2,1)),[1]CONTROLLO!$A$3:$B$38,2,FALSE)) + (VLOOKUP(IF(MID(T11,3,1)="0","ZERO",MID(T11,3,1)),[1]CONTROLLO!$D$3:$E$38,2,FALSE)) + (VLOOKUP(IF(RIGHT(T11,1)="0","ZERO",RIGHT(T11,1)),[1]CONTROLLO!$A$3:$B$38,2,FALSE)) -> #REF! | V11: =RIGHT(TEXT(D11,"gg/mm/aaaa"),2) -> #REF! | W11: =VLOOKUP(MID(TEXT(D11,"gg/mm/aaaa"),4,2),[1]MESI!$A$2:$B$13,2,FALSE) -> #REF! | X11: =IF(E11="M",LEFT(TEXT(D11,"gg/mm/aaaa"),2),IF(E11="F",LEFT(TEXT(D11,"gg/mm/aaaa"),2)+40,"")) -> #REF! | Y11: =IF(X11="","",V11&W11&X11) -> #REF! | Z11: =(VLOOKUP(IF(LEFT(Y11,1)="0","ZERO",LEFT(Y11,1)),[1]CONTROLLO!$A$3:$B$38,2,FALSE)) + (VLOOKUP(IF(MID(Y11,2,1)="0","ZERO",MID(Y11,2,1)),[1]CONTROLLO!$D$3:$E$38,2,FALSE)) + (VLOOKUP(IF(MID(Y11,3,1)="0","ZERO",MID(Y11,3,1)),[1]CONTROLLO!$A$3:$B$38,2,FALSE)) + (VLOOKUP(IF(MID(Y11,4,1)="0","ZERO",MID(Y11,4,1)),[1]CONTROLLO!$D$3:$E$38,2,FALSE)) + (VLOOKUP(IF(RIGHT(Y11,1)="0","ZERO",RIGHT(Y11,1)),[1]CONTROLLO!$A$3:$B$38,2,FALSE)) -> #REF! | AA11: =VLOOKUP(IF(TEXT(MOD(L11+S11+U11+Z11,26),"#")="0","ZERO",IF(TEXT(MOD(L11+S11+U11+Z11,26),"#")="","ZERO",TEXT(MOD(L11+S11+U11+Z11,26),"#"))),[1]CONTROLLO!$G$3:$H$28,2,FALSE) -> #REF! | AB11: =IF(K11<>"",IF(R11<>"",IF(T11<>"",IF(Y11<>"",IF(AA11<>"",K11&R11&Y11&T11&AA11,""),""),""),""),"") -> #REF!
A12: ='ELENCO ATLETI'!#REF! -> #REF! | B12: ='ELENCO ATLETI'!#REF! -> #REF! | C12: ='ELENCO ATLETI'!#REF! -> #REF! | D12: ='ELENCO ATLETI'!#REF! -> #REF! | E12: M | F12: =SUBSTITUTE(SUBSTITUTE(SUBSTITUTE(SUBSTITUTE(SUBSTITUTE(SUBSTITUTE(UPPER(A12)," ",""),"U",""),"O",""),"I",""),"E",""),"A","") -> #REF! | G12: =SUBSTITUTE(SUBSTITUTE(SUBSTITUTE(SUBSTITUTE(SUBSTITUTE(SUBSTITUTE(UPPER(A12)," ",""),"G",""),"F",""),"D",""),"C",""),"B","") -> #REF! | H12: =SUBSTITUTE(SUBSTITUTE(SUBSTITUTE(SUBSTITUTE(SUBSTITUTE(SUBSTITUTE(UPPER(G12)," ",""),"M",""),"L",""),"K",""),"J",""),"H","") -> #REF! | I12: =SUBSTITUTE(SUBSTITUTE(SUBSTITUTE(SUBSTITUTE(SUBSTITUTE(SUBSTITUTE(UPPER(H12)," ",""),"S",""),"R",""),"Q",""),"P",""),"N","") -> #REF! | J12: =SUBSTITUTE(SUBSTITUTE(SUBSTITUTE(SUBSTITUTE(SUBSTITUTE(SUBSTITUTE(SUBSTITUTE(UPPER(I12)," ",""),"Z",""),"W",""),"X",""),"W",""),"V",""),"T","") -> #REF! | K12: =IF(LEN(IF(LEN(F12)>=3,LEFT(F12,3),IF(LEN(F12)=2,F12 & LEFT(J12,1),F12 & LEFT(J12,2))))=2,IF(LEN(F12)>=3,LEFT(F12,3),IF(LEN(F12)=2,F12 & LEFT(J12,1),F12 & LEFT(J12,2))) & "X",IF(LEN(F12)>=3,LEFT(F12,3),IF(LEN(F12)=2,F12 & LEFT(J12,1),F12 & LEFT(J12,2)))) -> #REF! | L12: =(VLOOKUP(LEFT(K12,1),[1]CONTROLLO!$A$3:$B$38,2,FALSE)) + (VLOOKUP(MID(K12,2,1),[1]CONTROLLO!$D$3:$E$38,2,FALSE)) + (VLOOKUP(RIGHT(K12,1),[1]CONTROLLO!$A$3:$B$38,2,FALSE)) -> #REF! | M12: =SUBSTITUTE(SUBSTITUTE(SUBSTITUTE(SUBSTITUTE(SUBSTITUTE(SUBSTITUTE(UPPER(B12)," ",""),"U",""),"O",""),"I",""),"E",""),"A","") -> #REF! | N12: =SUBSTITUTE(SUBSTITUTE(SUBSTITUTE(SUBSTITUTE(SUBSTITUTE(SUBSTITUTE(UPPER(B12)," ",""),"G",""),"F",""),"D",""),"C",""),"B","") -> #REF! | O12: =SUBSTITUTE(SUBSTITUTE(SUBSTITUTE(SUBSTITUTE(SUBSTITUTE(SUBSTITUTE(UPPER(N12)," ",""),"M",""),"L",""),"K",""),"J",""),"H","") -> #REF! | P12: =SUBSTITUTE(SUBSTITUTE(SUBSTITUTE(SUBSTITUTE(SUBSTITUTE(SUBSTITUTE(UPPER(O12)," ",""),"S",""),"R",""),"Q",""),"P",""),"N","") -> #REF! | Q12: =SUBSTITUTE(SUBSTITUTE(SUBSTITUTE(SUBSTITUTE(SUBSTITUTE(SUBSTITUTE(SUBSTITUTE(UPPER(P12)," ",""),"Z",""),"W",""),"X",""),"W",""),"V",""),"T","") -> #REF! | R12: =IF(LEN(IF(LEN(M12)>3,MID(M12,1,1) & MID(M12,3,1) & MID(M12,4,1),IF(LEN(M12)=3,M12,IF(LEN(M12)=2,M12 & LEFT(Q12,1),M12 & LEFT(Q12,2)))))=2,IF(LEN(M12)>3,MID(M12,1,1) & MID(M12,3,1) & MID(M12,4,1),IF(LEN(M12)=3,M12,IF(LEN(M12)=2,M12 & LEFT(Q12,1),M12 & LEFT(Q12,2)))) & "X",IF(LEN(M12)>3,MID(M12,1,1) & MID(M12,3,1) & MID(M12,4,1),IF(LEN(M12)=3,M12,IF(LEN(M12)=2,M12 & LEFT(Q12,1),M12 & LEFT(Q12,2))))) -> #REF! | S12: =(VLOOKUP(LEFT(R12,1),[1]CONTROLLO!$D$3:$E$38,2,FALSE)) + (VLOOKUP(MID(R12,2,1),[1]CONTROLLO!$A$3:$B$38,2,FALSE)) + (VLOOKUP(RIGHT(R12,1),[1]CONTROLLO!$D$3:$E$38,2,FALSE)) -> #REF! | T12: =IF(C12="","",VLOOKUP(C12,[1]COMUNI!$A$2:$C$13867,2,FALSE)) -> #REF! | U12: =(VLOOKUP(IF(LEFT(T12,1)="0","ZERO",LEFT(T12,1)),[1]CONTROLLO!$D$3:$E$38,2,FALSE)) + (VLOOKUP(IF(MID(T12,2,1)="0","ZERO",MID(T12,2,1)),[1]CONTROLLO!$A$3:$B$38,2,FALSE)) + (VLOOKUP(IF(MID(T12,3,1)="0","ZERO",MID(T12,3,1)),[1]CONTROLLO!$D$3:$E$38,2,FALSE)) + (VLOOKUP(IF(RIGHT(T12,1)="0","ZERO",RIGHT(T12,1)),[1]CONTROLLO!$A$3:$B$38,2,FALSE)) -> #REF! | V12: =RIGHT(TEXT(D12,"gg/mm/aaaa"),2) -> #REF! | W12: =VLOOKUP(MID(TEXT(D12,"gg/mm/aaaa"),4,2),[1]MESI!$A$2:$B$13,2,FALSE) -> #REF! | X12: =IF(E12="M",LEFT(TEXT(D12,"gg/mm/aaaa"),2),IF(E12="F",LEFT(TEXT(D12,"gg/mm/aaaa"),2)+40,"")) -> #REF! | Y12: =IF(X12="","",V12&W12&X12) -> #REF! | Z12: =(VLOOKUP(IF(LEFT(Y12,1)="0","ZERO",LEFT(Y12,1)),[1]CONTROLLO!$A$3:$B$38,2,FALSE)) + (VLOOKUP(IF(MID(Y12,2,1)="0","ZERO",MID(Y12,2,1)),[1]CONTROLLO!$D$3:$E$38,2,FALSE)) + (VLOOKUP(IF(MID(Y12,3,1)="0","ZERO",MID(Y12,3,1)),[1]CONTROLLO!$A$3:$B$38,2,FALSE)) + (VLOOKUP(IF(MID(Y12,4,1)="0","ZERO",MID(Y12,4,1)),[1]CONTROLLO!$D$3:$E$38,2,FALSE)) + (VLOOKUP(IF(RIGHT(Y12,1)="0","ZERO",RIGHT(Y12,1)),[1]CONTROLLO!$A$3:$B$38,2,FALSE)) -> #REF! | AA12: =VLOOKUP(IF(TEXT(MOD(L12+S12+U12+Z12,26),"#")="0","ZERO",IF(TEXT(MOD(L12+S12+U12+Z12,26),"#")="","ZERO",TEXT(MOD(L12+S12+U12+Z12,26),"#"))),[1]CONTROLLO!$G$3:$H$28,2,FALSE) -> #REF! | AB12: =IF(K12<>"",IF(R12<>"",IF(T12<>"",IF(Y12<>"",IF(AA12<>"",K12&R12&Y12&T12&AA12,""),""),""),""),"") -> #REF!
A13: ='ELENCO ATLETI'!#REF! -> #REF! | B13: ='ELENCO ATLETI'!#REF! -> #REF! | C13: ='ELENCO ATLETI'!#REF! -> #REF! | D13: ='ELENCO ATLETI'!#REF! -> #REF! | E13: M | F13: =SUBSTITUTE(SUBSTITUTE(SUBSTITUTE(SUBSTITUTE(SUBSTITUTE(SUBSTITUTE(UPPER(A13)," ",""),"U",""),"O",""),"I",""),"E",""),"A","") -> #REF! | G13: =SUBSTITUTE(SUBSTITUTE(SUBSTITUTE(SUBSTITUTE(SUBSTITUTE(SUBSTITUTE(UPPER(A13)," ",""),"G",""),"F",""),"D",""),"C",""),"B","") -> #REF! | H13: =SUBSTITUTE(SUBSTITUTE(SUBSTITUTE(SUBSTITUTE(SUBSTITUTE(SUBSTITUTE(UPPER(G13)," ",""),"M",""),"L",""),"K",""),"J",""),"H","") -> #REF! | I13: =SUBSTITUTE(SUBSTITUTE(SUBSTITUTE(SUBSTITUTE(SUBSTITUTE(SUBSTITUTE(UPPER(H13)," ",""),"S",""),"R",""),"Q",""),"P",""),"N","") -> #REF! | J13: =SUBSTITUTE(SUBSTITUTE(SUBSTITUTE(SUBSTITUTE(SUBSTITUTE(SUBSTITUTE(SUBSTITUTE(UPPER(I13)," ",""),"Z",""),"W",""),"X",""),"W",""),"V",""),"T","") -> #REF! | K13: =IF(LEN(IF(LEN(F13)>=3,LEFT(F13,3),IF(LEN(F13)=2,F13 & LEFT(J13,1),F13 & LEFT(J13,2))))=2,IF(LEN(F13)>=3,LEFT(F13,3),IF(LEN(F13)=2,F13 & LEFT(J13,1),F13 & LEFT(J13,2))) & "X",IF(LEN(F13)>=3,LEFT(F13,3),IF(LEN(F13)=2,F13 & LEFT(J13,1),F13 & LEFT(J13,2)))) -> #REF! | L13: =(VLOOKUP(LEFT(K13,1),[1]CONTROLLO!$A$3:$B$38,2,FALSE)) + (VLOOKUP(MID(K13,2,1),[1]CONTROLLO!$D$3:$E$38,2,FALSE)) + (VLOOKUP(RIGHT(K13,1),[1]CONTROLLO!$A$3:$B$38,2,FALSE)) -> #REF! | M13: =SUBSTITUTE(SUBSTITUTE(SUBSTITUTE(SUBSTITUTE(SUBSTITUTE(SUBSTITUTE(UPPER(B13)," ",""),"U",""),"O",""),"I",""),"E",""),"A","") -> #REF! | N13: =SUBSTITUTE(SUBSTITUTE(SUBSTITUTE(SUBSTITUTE(SUBSTITUTE(SUBSTITUTE(UPPER(B13)," ",""),"G",""),"F",""),"D",""),"C",""),"B","") -> #REF! | O13: =SUBSTITUTE(SUBSTITUTE(SUBSTITUTE(SUBSTITUTE(SUBSTITUTE(SUBSTITUTE(UPPER(N13)," ",""),"M",""),"L",""),"K",""),"J",""),"H","") -> #REF! | P13: =SUBSTITUTE(SUBSTITUTE(SUBSTITUTE(SUBSTITUTE(SUBSTITUTE(SUBSTITUTE(UPPER(O13)," ",""),"S",""),"R",""),"Q",""),"P",""),"N","") -> #REF! | Q13: =SUBSTITUTE(SUBSTITUTE(SUBSTITUTE(SUBSTITUTE(SUBSTITUTE(SUBSTITUTE(SUBSTITUTE(UPPER(P13)," ",""),"Z",""),"W",""),"X",""),"W",""),"V",""),"T","") -> #REF! | R13: =IF(LEN(IF(LEN(M13)>3,MID(M13,1,1) & MID(M13,3,1) & MID(M13,4,1),IF(LEN(M13)=3,M13,IF(LEN(M13)=2,M13 & LEFT(Q13,1),M13 & LEFT(Q13,2)))))=2,IF(LEN(M13)>3,MID(M13,1,1) & MID(M13,3,1) & MID(M13,4,1),IF(LEN(M13)=3,M13,IF(LEN(M13)=2,M13 & LEFT(Q13,1),M13 & LEFT(Q13,2)))) & "X",IF(LEN(M13)>3,MID(M13,1,1) & MID(M13,3,1) & MID(M13,4,1),IF(LEN(M13)=3,M13,IF(LEN(M13)=2,M13 & LEFT(Q13,1),M13 & LEFT(Q13,2))))) -> #REF! | S13: =(VLOOKUP(LEFT(R13,1),[1]CONTROLLO!$D$3:$E$38,2,FALSE)) + (VLOOKUP(MID(R13,2,1),[1]CONTROLLO!$A$3:$B$38,2,FALSE)) + (VLOOKUP(RIGHT(R13,1),[1]CONTROLLO!$D$3:$E$38,2,FALSE)) -> #REF! | T13: =IF(C13="","",VLOOKUP(C13,[1]COMUNI!$A$2:$C$13867,2,FALSE)) -> #REF! | U13: =(VLOOKUP(IF(LEFT(T13,1)="0","ZERO",LEFT(T13,1)),[1]CONTROLLO!$D$3:$E$38,2,FALSE)) + (VLOOKUP(IF(MID(T13,2,1)="0","ZERO",MID(T13,2,1)),[1]CONTROLLO!$A$3:$B$38,2,FALSE)) + (VLOOKUP(IF(MID(T13,3,1)="0","ZERO",MID(T13,3,1)),[1]CONTROLLO!$D$3:$E$38,2,FALSE)) + (VLOOKUP(IF(RIGHT(T13,1)="0","ZERO",RIGHT(T13,1)),[1]CONTROLLO!$A$3:$B$38,2,FALSE)) -> #REF! | V13: =RIGHT(TEXT(D13,"gg/mm/aaaa"),2) -> #REF! | W13: =VLOOKUP(MID(TEXT(D13,"gg/mm/aaaa"),4,2),[1]MESI!$A$2:$B$13,2,FALSE) -> #REF! | X13: =IF(E13="M",LEFT(TEXT(D13,"gg/mm/aaaa"),2),IF(E13="F",LEFT(TEXT(D13,"gg/mm/aaaa"),2)+40,"")) -> #REF! | Y13: =IF(X13="","",V13&W13&X13) -> #REF! | Z13: =(VLOOKUP(IF(LEFT(Y13,1)="0","ZERO",LEFT(Y13,1)),[1]CONTROLLO!$A$3:$B$38,2,FALSE)) + (VLOOKUP(IF(MID(Y13,2,1)="0","ZERO",MID(Y13,2,1)),[1]CONTROLLO!$D$3:$E$38,2,FALSE)) + (VLOOKUP(IF(MID(Y13,3,1)="0","ZERO",MID(Y13,3,1)),[1]CONTROLLO!$A$3:$B$38,2,FALSE)) + (VLOOKUP(IF(MID(Y13,4,1)="0","ZERO",MID(Y13,4,1)),[1]CONTROLLO!$D$3:$E$38,2,FALSE)) + (VLOOKUP(IF(RIGHT(Y13,1)="0","ZERO",RIGHT(Y13,1)),[1]CONTROLLO!$A$3:$B$38,2,FALSE)) -> #REF! | AA13: =VLOOKUP(IF(TEXT(MOD(L13+S13+U13+Z13,26),"#")="0","ZERO",IF(TEXT(MOD(L13+S13+U13+Z13,26),"#")="","ZERO",TEXT(MOD(L13+S13+U13+Z13,26),"#"))),[1]CONTROLLO!$G$3:$H$28,2,FALSE) -> #REF! | AB13: =IF(K13<>"",IF(R13<>"",IF(T13<>"",IF(Y13<>"",IF(AA13<>"",K13&R13&Y13&T13&AA13,""),""),""),""),"") -> #REF!
A14: ='ELENCO ATLETI'!D26 -> 0 | B14: ='ELENCO ATLETI'!E26 -> 0 | C14: ='ELENCO ATLETI'!F26 -> 0 | D14: ='ELENCO ATLETI'!G26 -> 0 | E14: M | F14: =SUBSTITUTE(SUBSTITUTE(SUBSTITUTE(SUBSTITUTE(SUBSTITUTE(SUBSTITUTE(UPPER(A14)," ",""),"U",""),"O",""),"I",""),"E",""),"A","") -> 0 | G14: =SUBSTITUTE(SUBSTITUTE(SUBSTITUTE(SUBSTITUTE(SUBSTITUTE(SUBSTITUTE(UPPER(A14)," ",""),"G",""),"F",""),"D",""),"C",""),"B","") -> 0 | H14: =SUBSTITUTE(SUBSTITUTE(SUBSTITUTE(SUBSTITUTE(SUBSTITUTE(SUBSTITUTE(UPPER(G14)," ",""),"M",""),"L",""),"K",""),"J",""),"H","") -> 0 | I14: =SUBSTITUTE(SUBSTITUTE(SUBSTITUTE(SUBSTITUTE(SUBSTITUTE(SUBSTITUTE(UPPER(H14)," ",""),"S",""),"R",""),"Q",""),"P",""),"N","") -> 0 | J14: =SUBSTITUTE(SUBSTITUTE(SUBSTITUTE(SUBSTITUTE(SUBSTITUTE(SUBSTITUTE(SUBSTITUTE(UPPER(I14)," ",""),"Z",""),"W",""),"X",""),"W",""),"V",""),"T","") -> 0 | K14: =IF(LEN(IF(LEN(F14)>=3,LEFT(F14,3),IF(LEN(F14)=2,F14 & LEFT(J14,1),F14 & LEFT(J14,2))))=2,IF(LEN(F14)>=3,LEFT(F14,3),IF(LEN(F14)=2,F14 & LEFT(J14,1),F14 & LEFT(J14,2))) & "X",IF(LEN(F14)>=3,LEFT(F14,3),IF(LEN(F14)=2,F14 & LEFT(J14,1),F14 & LEFT(J14,2)))) -> 00X | L14: =(VLOOKUP(LEFT(K14,1),[1]CONTROLLO!$A$3:$B$38,2,FALSE)) + (VLOOKUP(MID(K14,2,1),[1]CONTROLLO!$D$3:$E$38,2,FALSE)) + (VLOOKUP(RIGHT(K14,1),[1]CONTROLLO!$A$3:$B$38,2,FALSE)) -> #N/A | M14: =SUBSTITUTE(SUBSTITUTE(SUBSTITUTE(SUBSTITUTE(SUBSTITUTE(SUBSTITUTE(UPPER(B14)," ",""),"U",""),"O",""),"I",""),"E",""),"A","") -> 0 | N14: =SUBSTITUTE(SUBSTITUTE(SUBSTITUTE(SUBSTITUTE(SUBSTITUTE(SUBSTITUTE(UPPER(B14)," ",""),"G",""),"F",""),"D",""),"C",""),"B","") -> 0 | O14: =SUBSTITUTE(SUBSTITUTE(SUBSTITUTE(SUBSTITUTE(SUBSTITUTE(SUBSTITUTE(UPPER(N14)," ",""),"M",""),"L",""),"K",""),"J",""),"H","") -> 0 | P14: =SUBSTITUTE(SUBSTITUTE(SUBSTITUTE(SUBSTITUTE(SUBSTITUTE(SUBSTITUTE(UPPER(O14)," ",""),"S",""),"R",""),"Q",""),"P",""),"N","") -> 0 | Q14: =SUBSTITUTE(SUBSTITUTE(SUBSTITUTE(SUBSTITUTE(SUBSTITUTE(SUBSTITUTE(SUBSTITUTE(UPPER(P14)," ",""),"Z",""),"W",""),"X",""),"W",""),"V",""),"T","") -> 0 | R14: =IF(LEN(IF(LEN(M14)>3,MID(M14,1,1) & MID(M14,3,1) & MID(M14,4,1),IF(LEN(M14)=3,M14,IF(LEN(M14)=2,M14 & LEFT(Q14,1),M14 & LEFT(Q14,2)))))=2,IF(LEN(M14)>3,MID(M14,1,1) & MID(M14,3,1) & MID(M14,4,1),IF(LEN(M14)=3,M14,IF(LEN(M14)=2,M14 & LEFT(Q14,1),M14 & LEFT(Q14,2)))) & "X",IF(LEN(M14)>3,MID(M14,1,1) & MID(M14,3,1) & MID(M14,4,1),IF(LEN(M14)=3,M14,IF(LEN(M14)=2,M14 & LEFT(Q14,1),M14 & LEFT(Q14,2))))) -> 00X | S14: =(VLOOKUP(LEFT(R14,1),[1]CONTROLLO!$D$3:$E$38,2,FALSE)) + (VLOOKUP(MID(R14,2,1),[1]CONTROLLO!$A$3:$B$38,2,FALSE)) + (VLOOKUP(RIGHT(R14,1),[1]CONTROLLO!$D$3:$E$38,2,FALSE)) -> #N/A | T14: =IF(C14="","",VLOOKUP(C14,[1]COMUNI!$A$2:$C$13867,2,FALSE)) -> #N/A | U14: =(VLOOKUP(IF(LEFT(T14,1)="0","ZERO",LEFT(T14,1)),[1]CONTROLLO!$D$3:$E$38,2,FALSE)) + (VLOOKUP(IF(MID(T14,2,1)="0","ZERO",MID(T14,2,1)),[1]CONTROLLO!$A$3:$B$38,2,FALSE)) + (VLOOKUP(IF(MID(T14,3,1)="0","ZERO",MID(T14,3,1)),[1]CONTROLLO!$D$3:$E$38,2,FALSE)) + (VLOOKUP(IF(RIGHT(T14,1)="0","ZERO",RIGHT(T14,1)),[1]CONTROLLO!$A$3:$B$38,2,FALSE)) -> #N/A | V14: =RIGHT(TEXT(D14,"gg/mm/aaaa"),2) -> 00 | W14: =VLOOKUP(MID(TEXT(D14,"gg/mm/aaaa"),4,2),[1]MESI!$A$2:$B$13,2,FALSE) -> A | X14: =IF(E14="M",LEFT(TEXT(D14,"gg/mm/aaaa"),2),IF(E14="F",LEFT(TEXT(D14,"gg/mm/aaaa"),2)+40,"")) -> 00 | Y14: =IF(X14="","",V14&W14&X14) -> 00A00 | Z14: =(VLOOKUP(IF(LEFT(Y14,1)="0","ZERO",LEFT(Y14,1)),[1]CONTROLLO!$A$3:$B$38,2,FALSE)) + (VLOOKUP(IF(MID(Y14,2,1)="0","ZERO",MID(Y14,2,1)),[1]CONTROLLO!$D$3:$E$38,2,FALSE)) + (VLOOKUP(IF(MID(Y14,3,1)="0","ZERO",MID(Y14,3,1)),[1]CONTROLLO!$A$3:$B$38,2,FALSE)) + (VLOOKUP(IF(MID(Y14,4,1)="0","ZERO",MID(Y14,4,1)),[1]CONTROLLO!$D$3:$E$38,2,FALSE)) + (VLOOKUP(IF(RIGHT(Y14,1)="0","ZERO",RIGHT(Y14,1)),[1]CONTROLLO!$A$3:$B$38,2,FALSE)) -> 3 | AA14: =VLOOKUP(IF(TEXT(MOD(L14+S14+U14+Z14,26),"#")="0","ZERO",IF(TEXT(MOD(L14+S14+U14+Z14,26),"#")="","ZERO",TEXT(MOD(L14+S14+U14+Z14,26),"#"))),[1]CONTROLLO!$G$3:$H$28,2,FALSE) -> #N/A | AB14: =IF(K14<>"",IF(R14<>"",IF(T14<>"",IF(Y14<>"",IF(AA14<>"",K14&R14&Y14&T14&AA14,""),""),""),""),"") -> #N/A
